BEGIN:VCALENDAR
VERSION:2.0
PRODID:-//Die Trompete - ECPv6.15.18//NONSGML v1.0//EN
CALSCALE:GREGORIAN
METHOD:PUBLISH
X-WR-CALNAME:Die Trompete
X-ORIGINAL-URL:https://die-trompete.de
X-WR-CALDESC:Veranstaltungen für Die Trompete
REFRESH-INTERVAL;VALUE=DURATION:PT1H
X-Robots-Tag:noindex
X-PUBLISHED-TTL:PT1H
BEGIN:VTIMEZONE
TZID:Europe/Berlin
BEGIN:DAYLIGHT
TZOFFSETFROM:+0100
TZOFFSETTO:+0200
TZNAME:CEST
DTSTART:20240331T010000
END:DAYLIGHT
BEGIN:STANDARD
TZOFFSETFROM:+0200
TZOFFSETTO:+0100
TZNAME:CET
DTSTART:20241027T010000
END:STANDARD
BEGIN:DAYLIGHT
TZOFFSETFROM:+0100
TZOFFSETTO:+0200
TZNAME:CEST
DTSTART:20250330T010000
END:DAYLIGHT
BEGIN:STANDARD
TZOFFSETFROM:+0200
TZOFFSETTO:+0100
TZNAME:CET
DTSTART:20251026T010000
END:STANDARD
BEGIN:DAYLIGHT
TZOFFSETFROM:+0100
TZOFFSETTO:+0200
TZNAME:CEST
DTSTART:20260329T010000
END:DAYLIGHT
BEGIN:STANDARD
TZOFFSETFROM:+0200
TZOFFSETTO:+0100
TZNAME:CET
DTSTART:20261025T010000
END:STANDARD
END:VTIMEZONE
BEGIN:VEVENT
DTSTART;TZID=Europe/Berlin:20250704T220000
DTEND;TZID=Europe/Berlin:20250704T234500
DTSTAMP:20260424T195042
CREATED:20250516T083008Z
LAST-MODIFIED:20250516T083008Z
UID:10002033-1751666400-1751672700@die-trompete.de
SUMMARY:Mariybu - live
DESCRIPTION:Buback Konzerte präsentiert \n\nMARIYBU Bochum Total Offstageshow\nEinlass 22:00 Start 22:30\nTickets\n\nZwischen Eskapismus und Ekstase\, Rausch und Rebellion – Mariybu bringt am 04. Juli 2025 ihre elektrisierende Liveshow im Rahmen von Bochum Total Offstage in die Trompete Bochum. Mit im Gepäck: ihr neues Album ein tag göttin\, das am 14. Februar erschienen ist und bereits als Soundtrack der queeren Berliner Nächte gefeiert wird.\nDas Album erzählt von Selbstermächtigung\, queerer Identität und dem Aufbrechen patriarchaler Strukturen – verpackt in technoiden Hyperpop mit Rave-Pop-Vibes\, der zwischen Glitzer\, Dreck und Clublicht oszilliert. Mariybu schafft Klangwelten\, in denen verletzliche Intimität auf ekstatische Befreiung trifft – roh\, ehrlich und empowernd.\nLive entfaltet sich ihre Musik in voller Wucht: ein hybrider Trip aus Beats\, Bass und Haltung – irgendwo zwischen Tanzfläche und Tagebuch\, Pop und Performance\, Hedonismus und Widerstand.
URL:https://die-trompete.de/event/mariybu-live-2/
LOCATION:Die Trompete &#8211; Bochum\, Viktoriastr. 45\, Bochum\, NRW\, 44787\, Deutschland
CATEGORIES:Konzert
ATTACH;FMTTYPE=image/jpeg:https://die-trompete.de/wp-content/uploads/2025/05/Mariybu2_Liv-Plotz-Kopie.jpg
END:VEVENT
BEGIN:VEVENT
DTSTART;TZID=Europe/Berlin:20250704T230000
DTEND;TZID=Europe/Berlin:20250705T050000
DTSTAMP:20260424T195042
CREATED:20250728T150417Z
LAST-MODIFIED:20250728T150417Z
UID:10002137-1751670000-1751691600@die-trompete.de
SUMMARY:༄ؘ ۪۪۫۫ ▹ schiebt anders ◃ ۪۪۫۫ ༄ؘ
DESCRIPTION:༄ؘ ۪۪۫۫ ▹ schiebt anders ◃ ۪۪۫۫ ༄ؘ\n♡✰ hyperpop・ indie・techno・eurodance ✰♡ \nMit euren Residents: Ali James & Lukas Kleinhaus\nUnd wechselnden Gästen \nKlingt wie:\nDilla\, Yung Hurn\, DJ Heartstring\, Ski Aggu\, Alice Deejay\, Edwin Rosen\, BRUTALISMUS 3000\, Marlon Hoffstadt\, Domiziana\, Blümchen\, Paula Hartmann\, emi x\, BHZ\, southstar\, luis ake\, 01099\, Baby B3ns\, $ONO$ CLIQ\, Longus Mongus\, Tropikel Ltd.\, SIRA
URL:https://die-trompete.de/event/%e0%bc%84%d8%98-%db%aa%db%aa%db%ab%db%ab-%e2%96%b9-schiebt-anders-%e2%97%83-%db%aa%db%aa%db%ab%db%ab-%e0%bc%84%d8%98-3/2025-07-04/
LOCATION:Die Trompete &#8211; Bochum\, Viktoriastr. 45\, Bochum\, NRW\, 44787\, Deutschland
CATEGORIES:Party
ATTACH;FMTTYPE=image/jpeg:https://die-trompete.de/wp-content/uploads/2023/12/Schiebt-Anders-1223-e1707830088300.jpg
END:VEVENT
END:VCALENDAR