BEGIN:VCALENDAR
VERSION:2.0
PRODID:-//Die Trompete - ECPv6.15.18//NONSGML v1.0//EN
CALSCALE:GREGORIAN
METHOD:PUBLISH
X-WR-CALNAME:Die Trompete
X-ORIGINAL-URL:https://die-trompete.de
X-WR-CALDESC:Veranstaltungen für Die Trompete
REFRESH-INTERVAL;VALUE=DURATION:PT1H
X-Robots-Tag:noindex
X-PUBLISHED-TTL:PT1H
BEGIN:VTIMEZONE
TZID:Europe/Berlin
BEGIN:DAYLIGHT
TZOFFSETFROM:+0100
TZOFFSETTO:+0200
TZNAME:CEST
DTSTART:20250330T010000
END:DAYLIGHT
BEGIN:STANDARD
TZOFFSETFROM:+0200
TZOFFSETTO:+0100
TZNAME:CET
DTSTART:20251026T010000
END:STANDARD
BEGIN:DAYLIGHT
TZOFFSETFROM:+0100
TZOFFSETTO:+0200
TZNAME:CEST
DTSTART:20260329T010000
END:DAYLIGHT
BEGIN:STANDARD
TZOFFSETFROM:+0200
TZOFFSETTO:+0100
TZNAME:CET
DTSTART:20261025T010000
END:STANDARD
BEGIN:DAYLIGHT
TZOFFSETFROM:+0100
TZOFFSETTO:+0200
TZNAME:CEST
DTSTART:20270328T010000
END:DAYLIGHT
BEGIN:STANDARD
TZOFFSETFROM:+0200
TZOFFSETTO:+0100
TZNAME:CET
DTSTART:20271031T010000
END:STANDARD
END:VTIMEZONE
BEGIN:VEVENT
DTSTART;TZID=Europe/Berlin:20260417T193000
DTEND;TZID=Europe/Berlin:20260417T230000
DTSTAMP:20260423T174211
CREATED:20251210T142510Z
LAST-MODIFIED:20260413T184919Z
UID:10002193-1776454200-1776466800@die-trompete.de
SUMMARY:World Peace - live
DESCRIPTION:Swamp Booking präsentiert \nWORLD PEACE\nKINSKI\nTHE WOLF I FEED \nEinlass 19:30\, Start 20:30\nTickets \nWORLD PEACE kommen aus Oakland\, Kalifornien (USA)\, und gehören zu den anerkannt harten Vertreter:innen des Powerviolence / Hardcore.  Ihre Musik ist radikal\, schnell\, direkt — mit Bass\, Schlagzeug und aggressivem Gesang\, ohne unnötigen Schnickschnack.  Tracks dauern oft nur wenige Sekunden bis unter einer Minute — kurz\, heftig\, laut. \nIhre Songs sind keine langen Epen\, sondern präzise Schläge: rasend\, intensiv\, unnachgiebig. Der Sound entfaltet eine rohe Wucht\, die Hardcore- und Punkfans an die frühen Wurzeln der Szene erinnert — und gleichzeitig modern und kompromisslos bleibt.
URL:https://die-trompete.de/event/world-peace-live/
LOCATION:Die Trompete &#8211; Bochum\, Viktoriastr. 45\, Bochum\, NRW\, 44787\, Deutschland
CATEGORIES:Konzert
ATTACH;FMTTYPE=image/jpeg:https://die-trompete.de/wp-content/uploads/2025/12/WP-EURO.jpg
END:VEVENT
BEGIN:VEVENT
DTSTART;TZID=Europe/Berlin:20260417T230000
DTEND;TZID=Europe/Berlin:20260418T050000
DTSTAMP:20260423T174211
CREATED:20260413T093208Z
LAST-MODIFIED:20260413T093208Z
UID:10002383-1776466800-1776488400@die-trompete.de
SUMMARY:🎸 90s Riot! – Die alternative 90s Party in der Trompete Bochum
DESCRIPTION:Die 90er waren laut\, wild und voller Gitarren – und wir holen das Feeling zurück!Am Freitag\, den 17. Oktober\, startet in der Trompete Bochum wieder die legendäre 90s Riot! – deine Nacht für alles zwischen Grunge\, 90sRock und Punk-Rock. \nDJ Ali James legt auf\, was eine ganze Generation geprägt hat:Red Hot Chili Peppers\, Nirvana\, R.E.M.\, Oasis\, Guns N’ Roses\, Blur\, Rage Against The Machine\, The Offspring\, Linkin Park\, Green Day\, Blink-182\, No Doubt\, The Verve\, The Cardigans\, Pearl Jam\, The Prodigy\, Pulp – und jede Menge Überraschungen\, die du längst vergessen\, aber sofort wieder lieben wirst.
URL:https://die-trompete.de/event/%f0%9f%8e%b8-90s-riot-die-alternative-90s-party-in-der-trompete-bochum/
LOCATION:Die Trompete &#8211; Bochum\, Viktoriastr. 45\, Bochum\, NRW\, 44787\, Deutschland
CATEGORIES:Party
ATTACH;FMTTYPE=image/jpeg:https://die-trompete.de/wp-content/uploads/2026/04/WhatsApp-Image-2026-04-13-at-11.28.53.jpeg
END:VEVENT
END:VCALENDAR