BEGIN:VCALENDAR
VERSION:2.0
PRODID:-//Die Trompete - ECPv6.15.18//NONSGML v1.0//EN
CALSCALE:GREGORIAN
METHOD:PUBLISH
X-WR-CALNAME:Die Trompete
X-ORIGINAL-URL:https://die-trompete.de
X-WR-CALDESC:Veranstaltungen für Die Trompete
REFRESH-INTERVAL;VALUE=DURATION:PT1H
X-Robots-Tag:noindex
X-PUBLISHED-TTL:PT1H
BEGIN:VTIMEZONE
TZID:Europe/Berlin
BEGIN:DAYLIGHT
TZOFFSETFROM:+0100
TZOFFSETTO:+0200
TZNAME:CEST
DTSTART:20250330T010000
END:DAYLIGHT
BEGIN:STANDARD
TZOFFSETFROM:+0200
TZOFFSETTO:+0100
TZNAME:CET
DTSTART:20251026T010000
END:STANDARD
BEGIN:DAYLIGHT
TZOFFSETFROM:+0100
TZOFFSETTO:+0200
TZNAME:CEST
DTSTART:20260329T010000
END:DAYLIGHT
BEGIN:STANDARD
TZOFFSETFROM:+0200
TZOFFSETTO:+0100
TZNAME:CET
DTSTART:20261025T010000
END:STANDARD
BEGIN:DAYLIGHT
TZOFFSETFROM:+0100
TZOFFSETTO:+0200
TZNAME:CEST
DTSTART:20270328T010000
END:DAYLIGHT
BEGIN:STANDARD
TZOFFSETFROM:+0200
TZOFFSETTO:+0100
TZNAME:CET
DTSTART:20271031T010000
END:STANDARD
END:VTIMEZONE
BEGIN:VEVENT
DTSTART;TZID=Europe/Berlin:20260423T190000
DTEND;TZID=Europe/Berlin:20260423T230000
DTSTAMP:20260426T001943
CREATED:20260331T171156Z
LAST-MODIFIED:20260331T171156Z
UID:10002381-1776970800-1776985200@die-trompete.de
SUMMARY:Remote Bondage - live
DESCRIPTION:GOOD GIRLS GO TO HELL – TOUR 2026 \nEinlass 19:00 Start 20:00 \nTickets\n\nREMOTE BONDAGE stolzieren mit ihrem frisch geborenen Debütalbum (GOOD GIRL – erscheint April 2026) direkt auf die Bühne: ein Manifest in Rosa\, voller Energie\, roher Emotion und funkelnder Wut. Reißt euch los\, schwingt euch aufs Hobbyhorse und galoppiert in Nächte voller Ekstase\, Heartbreaks und tanzbarer Rebellion. Mit dreistimmigem Gesang\, tragenden Basslines und einer Bühnenenergie\, die zwischen Oper\, Musical und Moshpit pendelt\, haben REMOTE BONDAGE längst bewiesen\, wie man Wut tanzbar macht. Ihre Texte treffen mitten ins Chaos zwischen Liebe\, Heranwachsen und gesellschaftliche Strukturen – und bieten in Pop-Songs mit Punk-Attitüde ein rundum fesselndes Erlebnis.\n\nUnwiderstehlich flanierten die fünf Wahl-Berliner:innen bereits über jegliche Festivals (u.a. Open Flair\, Fusion oder Highfield) und ausverkaufte Bühnen ihrer Headliner:innen Tour. Im Frühjahr 2026 schreitet die Rough-Pop Band erneut auf Tour\, quer durch Deutschland (und ein Stück darüber hinaus)\, bereit\, jede Bühne in Schutt\, Glitzer und Gänsehaut zu verwandeln.
URL:https://die-trompete.de/event/remote-bondage-live/
LOCATION:Die Trompete &#8211; Bochum\, Viktoriastr. 45\, Bochum\, NRW\, 44787\, Deutschland
CATEGORIES:Konzert
ATTACH;FMTTYPE=image/jpeg:https://die-trompete.de/wp-content/uploads/2026/03/TOUR_PLAKAT_BEITRAG.jpg
END:VEVENT
BEGIN:VEVENT
DTSTART;TZID=Europe/Berlin:20260423T220000
DTEND;TZID=Europe/Berlin:20260424T040000
DTSTAMP:20260426T001943
CREATED:20241210T144506Z
LAST-MODIFIED:20260109T124725Z
UID:10002241-1776981600-1777003200@die-trompete.de
SUMMARY:Mit viel Liebe - Die Studiparty in der Trompete
DESCRIPTION:🎉 Mit viel Liebe – Die Studiparty! 🎉 \nJeden Donnerstag ab 22:00 Uhr in der legendären Trompete im Bermuda3Eck\, Bochum! 🌟 \nFreut euch auf eine unvergessliche Nacht mit den besten Hits zum Mitsingen! 🎤\nVon Indie\, Hip-Hop bis Alternative Rock – aber am Donnerstag brechen wir die Genregrenzen!\n🎧💥 Aktuelle und ältere Popsongs dürfen natürlich nicht fehlen! 🎶 \nLasst uns gemeinsam den Vize-Freitag zur Party-Nacht machen! 🌙✨ \nUnd hey – Nicht-Studis sind auch herzlich willkommen! Kommt vorbei und feiert mit uns! 🥳💃🕺 \n#Studiparty #Bochum #Trompete #Bermuda3Eck #Partytime #DonnerstagFieber
URL:https://die-trompete.de/event/mit-viel-liebe-die-studiparty-in-der-trompete-2/2026-04-23/
LOCATION:Die Trompete &#8211; Bochum\, Viktoriastr. 45\, Bochum\, NRW\, 44787\, Deutschland
CATEGORIES:Party
ATTACH;FMTTYPE=image/jpeg:https://die-trompete.de/wp-content/uploads/2024/12/website-quer-scaled.jpg
END:VEVENT
END:VCALENDAR