BEGIN:VCALENDAR
VERSION:2.0
PRODID:-//Die Trompete - ECPv6.15.18//NONSGML v1.0//EN
CALSCALE:GREGORIAN
METHOD:PUBLISH
X-ORIGINAL-URL:https://die-trompete.de
X-WR-CALDESC:Veranstaltungen für Die Trompete
REFRESH-INTERVAL;VALUE=DURATION:PT1H
X-Robots-Tag:noindex
X-PUBLISHED-TTL:PT1H
BEGIN:VTIMEZONE
TZID:Europe/Berlin
BEGIN:DAYLIGHT
TZOFFSETFROM:+0100
TZOFFSETTO:+0200
TZNAME:CEST
DTSTART:20250330T010000
END:DAYLIGHT
BEGIN:STANDARD
TZOFFSETFROM:+0200
TZOFFSETTO:+0100
TZNAME:CET
DTSTART:20251026T010000
END:STANDARD
BEGIN:DAYLIGHT
TZOFFSETFROM:+0100
TZOFFSETTO:+0200
TZNAME:CEST
DTSTART:20260329T010000
END:DAYLIGHT
BEGIN:STANDARD
TZOFFSETFROM:+0200
TZOFFSETTO:+0100
TZNAME:CET
DTSTART:20261025T010000
END:STANDARD
BEGIN:DAYLIGHT
TZOFFSETFROM:+0100
TZOFFSETTO:+0200
TZNAME:CEST
DTSTART:20270328T010000
END:DAYLIGHT
BEGIN:STANDARD
TZOFFSETFROM:+0200
TZOFFSETTO:+0100
TZNAME:CET
DTSTART:20271031T010000
END:STANDARD
END:VTIMEZONE
BEGIN:VEVENT
DTSTART;TZID=Europe/Berlin:20260701T190000
DTEND;TZID=Europe/Berlin:20260701T223000
DTSTAMP:20260420T172705
CREATED:20260327T082815Z
LAST-MODIFIED:20260327T082815Z
UID:10002375-1782932400-1782945000@die-trompete.de
SUMMARY:Combust - live
DESCRIPTION:Stronger Bookings präsentiert \n\nCOMBUSTWHISPERSDOMAIN \n\nEinlass 19:00 Start 19:30\nTickets \n\nDer Auftakt zu Bochum Total bekommt 2026 eine ordentliche Portion Druck: Mit Combust\, Whispers und Domain treffen am 1. Juli in der Trompete drei Bands aufeinander\, die aktuell unterschiedliche Facetten von Hardcore neu definieren – roh\, direkt und ohne unnötigen Ballast.\nCombust stehen für kompromisslosen New-York-inspirierten Hardcore\, der Geschwindigkeit und Härte auf den Punkt bringt. Kein Retro-Trip\, sondern ein Sound\, der die Energie klassischer Szenen kanalisiert und in die Gegenwart übersetzt – tight\, aggressiv und live maximal effektiv.\nWhispers setzen dem eine düstere\, schwere Note entgegen. Zwischen Metallic Hardcore und bedrückender Atmosphäre entwickelt die Band eine Intensität\, die unter die Haut geht\, ohne sich in Klischees zu verlieren. Druckvoll\, finster und mit klarem Fokus auf Wirkung statt Pose.\nMit Domain aus South Florida kommt zusätzlich frischer Wind ins Line-up. Die Band verbindet moderne Hardcore-Ansätze mit einer spürbaren Dringlichkeit und bringt genau die Unberechenbarkeit mit\, die man von einer neuen Generation erwartet – schnell\, wütend und hungrig.\nAls offizielle Bochum Total Opening Show ist dieser Abend mehr als nur ein Warm-up: ein konzentrierter Einstieg in ein Wochenende voller Live-Musik – reduziert auf das Wesentliche und nah dran an dem\, worum es im Hardcore immer noch geht.
URL:https://die-trompete.de/event/combust-live/
LOCATION:Die Trompete &#8211; Bochum\, Viktoriastr. 45\, Bochum\, NRW\, 44787\, Deutschland
CATEGORIES:Konzert
ATTACH;FMTTYPE=image/jpeg:https://die-trompete.de/wp-content/uploads/2026/03/Combust-Kopie.jpg
END:VEVENT
BEGIN:VEVENT
DTSTART;TZID=Europe/Berlin:20260709T190000
DTEND;TZID=Europe/Berlin:20260709T223000
DTSTAMP:20260420T172705
CREATED:20251222T005504Z
LAST-MODIFIED:20251222T005504Z
UID:10002199-1783623600-1783636200@die-trompete.de
SUMMARY:Speak Easy Stage – Stand-up-Comedy in der Trompete
DESCRIPTION:Speak Easy Stage – Stand-up-Comedy in der Trompete\nAm 08. Januar startet die Speak Easy Stage mit einer starken Comedy-Ausgabe ins neue Jahr. Euch erwartet ein Abend mit frischen Gags\, ehrlichen Geschichten und pointierten Beobachtungen.  \n✨ Das Line-up: \nBjörn von Morgenstern\nEiner der gefragtesten Comedy-Newcomer Deutschlands: NightWash-Talent\, ComedyClash-Gewinner\, viral auf Instagram und dabei süffisant\, überraschend und auch noch extrem publikumsnah?!  \nMarlena Schönfeld (Düsseldorf)\nStand-up\, Slam & starke Punchlines: Werbetexterin turned Comedian\, liebt dumme Gags\, gute Outfits und hasst das Patriarchat. Relateable.  \nMalte Küppers (Duisburg)\nRuhrgebiets-Comedy mit Witz\, Haltung: Sozialarbeiter\, Autor und Podcaster\, der Alltagsbeobachtungen in kluge\, zugängliche Comedy verwandelt. \nKäte (Köln)\nPoetry Slammerin und Moderatorin mit klarer feministischer Haltung\, lauten Texten\, viel Empathie und einer guten Portion Selbstironie. \nJens Kotalla (Münster)\nComedian\, Slammer\, Musiker und Autor mit über 1.000 Bühnenauftritten. Das macht ihn erfahren\, vielseitig und immer mit feinem Gespür fürs Publikum. \n🎙️ Moderation: Evgenija Kosov & Luise Wolff\n🕖 Einlass: 19:00 Uhr\n🕗 Beginn: 20:00 Uhr \n🎟️ Eintritt:\nVVK 7 € | ermäßigt* 5 €\nAK 10 € | ermäßigt* 7 €\n*Studierende\, Azubis\, Schülerinnen\, Rentnerinnen\, Schwerbehinderte \nSpeak Easy Stage steht für offene Bühnen\, starke Stimmen und Abende\, die man nicht plant – sondern erlebt.
URL:https://die-trompete.de/event/speak-easy-stage-stand-up-comedy-in-der-trompete-3/
LOCATION:Die Trompete &#8211; Bochum\, Viktoriastr. 45\, Bochum\, NRW\, 44787\, Deutschland
CATEGORIES:Kultur
ATTACH;FMTTYPE=image/png:https://die-trompete.de/wp-content/uploads/2025/12/Blank-1-2.png
END:VEVENT
BEGIN:VEVENT
DTSTART;TZID=Europe/Berlin:20260717T220000
DTEND;TZID=Europe/Berlin:20260718T050000
DTSTAMP:20260420T172705
CREATED:20260109T131342Z
LAST-MODIFIED:20260109T131342Z
UID:10002260-1784325600-1784350800@die-trompete.de
SUMMARY:Syndicate Noir
DESCRIPTION:Syndicate Noir\nSynth-/Dark-/Cold-Wave / Post-Punk / Goth / Minimal & Underground NDW \nDie Trompete Bochum\nAb 22:00Uhr \nby DJ Thomas Darkshades\n(Shadow\, MTC\, KIR\, DarkFlower)
URL:https://die-trompete.de/event/syndicate-noir/2026-07-17/
LOCATION:Die Trompete &#8211; Bochum\, Viktoriastr. 45\, Bochum\, NRW\, 44787\, Deutschland
CATEGORIES:Party
ATTACH;FMTTYPE=image/jpeg:https://die-trompete.de/wp-content/uploads/2026/01/Unbranded_Homepage.jpg
END:VEVENT
BEGIN:VEVENT
DTSTART;TZID=Europe/Berlin:20260717T230000
DTEND;TZID=Europe/Berlin:20260718T050000
DTSTAMP:20260420T172705
CREATED:20260210T102058Z
LAST-MODIFIED:20260210T102058Z
UID:10002348-1784329200-1784350800@die-trompete.de
SUMMARY:✨ WHO RUN THE WORLD – FLINTA x FLINTA** ✨
DESCRIPTION:✨ WHO RUN THE WORLD – FLINTA x FLINTA** ✨\n| 2000s RnB & Afrobeats | Safe Space\n23:00Uhr\nDie Trompete Bochum\n \n\nWir öffnen den Dancefloor für eine Nacht voller Wärme\, Bass und Community.\nEs warten smooth 2000er RnB Hits\, Afrobeats\, vibey Energy und ein Raum\, der für FLINTA von FLINTA** geschaffen wurde.\n\n🌈 Queer-friendly. Empowernd. Sensibel.\n💃🏾 Feel the rhythm. Own the space.\n🔥 Come as you are – stay as you feel.\n\nParty\, Power – ein Abend für uns.\nWir sehen uns dort. ✨
URL:https://die-trompete.de/event/%e2%9c%a8-who-run-the-world-flinta-x-flinta-%e2%9c%a8-2/2026-07-17/
LOCATION:Die Trompete &#8211; Bochum\, Viktoriastr. 45\, Bochum\, NRW\, 44787\, Deutschland
CATEGORIES:Party
END:VEVENT
BEGIN:VEVENT
DTSTART;TZID=Europe/Berlin:20260718T230000
DTEND;TZID=Europe/Berlin:20260719T050000
DTSTAMP:20260420T172705
CREATED:20260310T102333Z
LAST-MODIFIED:20260310T102333Z
UID:10002358-1784415600-1784437200@die-trompete.de
SUMMARY:A Night To Remember // Pop Punk
DESCRIPTION:A NIGHT TO REMEMBER \n\n\nDEFEND POP PUNK! \nMit dabei:\nA Day To Remember\, Against the Current\, Alkaline Trio\, Alles feat. Travis Barker\, All Time Low\, American Hi-Fi\, As December falls\, As it is\, Avril Lavigne\, Bayside\, Bearings\, Between You and Me\, Blink-182\, Boys like Girls\, Brand New\, Broadside\, Cobra Starship\, Cute Is What We Aim For\, De’Wayne\, Dreamers\, Fall Out Boy\, Flash Forward\, Four Year Strong\, girlfriends\, Good Charlotte\, Green Day\, Heroes For Hire\, jxdn\, Kenny Hoopla\, Knuckle Puck\, LØLØ\, Machine Gun Kelly\, Magnolia Park\, Man Overboard\, Mayday Parade\, Meet me @ the Altar\, Metro Station\, Mest\, MOD SUN\, My Chemical Romance\, Neck Deep\, New Found Glory\, Pale Waves\, Panic! At The Disco\, Paramore\, Point North\, Real Friends\, Rise Against\, ROAM\, Set it off\, Simple Plan\, Stand Atlantic\, State Champs\, Story Of The Year\, Sueco\, Sum 41\, Taking Back Sunday\, The Academy Is\, The Audition\, The Menzingers\, The Offspring\, The Summer Set\, The Used\, The Story So Far\, The Wonder Years\, Trophy Eyes\, Waterparks\, Willow\, With Confidence\, WSTR\, Yellowcard\, Youth Fountain\, Yungblud\, Zebrahead und noch viele mehr. \nAn den Decks:\nMiss Murder\nSchorsch Klunie \n
URL:https://die-trompete.de/event/a-night-to-remember-pop-punk-4-3/2026-07-18/
LOCATION:Die Trompete &#8211; Bochum\, Viktoriastr. 45\, Bochum\, NRW\, 44787\, Deutschland
CATEGORIES:Party
ATTACH;FMTTYPE=image/webp:https://die-trompete.de/wp-content/uploads/2022/09/A-Night-To-Remember-Homepage.webp
END:VEVENT
END:VCALENDAR