BEGIN:VCALENDAR
VERSION:2.0
PRODID:-//Die Trompete - ECPv6.15.18//NONSGML v1.0//EN
CALSCALE:GREGORIAN
METHOD:PUBLISH
X-WR-CALNAME:Die Trompete
X-ORIGINAL-URL:https://die-trompete.de
X-WR-CALDESC:Veranstaltungen für Die Trompete
REFRESH-INTERVAL;VALUE=DURATION:PT1H
X-Robots-Tag:noindex
X-PUBLISHED-TTL:PT1H
BEGIN:VTIMEZONE
TZID:Europe/Berlin
BEGIN:DAYLIGHT
TZOFFSETFROM:+0100
TZOFFSETTO:+0200
TZNAME:CEST
DTSTART:20250330T010000
END:DAYLIGHT
BEGIN:STANDARD
TZOFFSETFROM:+0200
TZOFFSETTO:+0100
TZNAME:CET
DTSTART:20251026T010000
END:STANDARD
BEGIN:DAYLIGHT
TZOFFSETFROM:+0100
TZOFFSETTO:+0200
TZNAME:CEST
DTSTART:20260329T010000
END:DAYLIGHT
BEGIN:STANDARD
TZOFFSETFROM:+0200
TZOFFSETTO:+0100
TZNAME:CET
DTSTART:20261025T010000
END:STANDARD
BEGIN:DAYLIGHT
TZOFFSETFROM:+0100
TZOFFSETTO:+0200
TZNAME:CEST
DTSTART:20270328T010000
END:DAYLIGHT
BEGIN:STANDARD
TZOFFSETFROM:+0200
TZOFFSETTO:+0100
TZNAME:CET
DTSTART:20271031T010000
END:STANDARD
END:VTIMEZONE
BEGIN:VEVENT
DTSTART;TZID=Europe/Berlin:20260228T230000
DTEND;TZID=Europe/Berlin:20260301T050000
DTSTAMP:20260421T130902
CREATED:20260129T124403Z
LAST-MODIFIED:20260129T124403Z
UID:10002330-1772319600-1772341200@die-trompete.de
SUMMARY:Sandpit Turtle – Metalcore\, Post-Hardcore\, Nu Metal\, Melodic Hardcore Party
DESCRIPTION:Sandpit Turtle – Metalcore\, Post-Hardcore\, Nu Metal\, Melodic Hardcore Party\n\n\nMit:A Day To Remember\, Adema\, Agnostic Front\, Alesana\, Alexisonfire\, Architects\, Asking Alexandria\, Attack Attack\, Atreyu\, At the Drive-In\, Bad Omens\, Balance and Composure\, Bayside\, Beartooth\, Belmont\, Billy Talent\, Biohazard\, Bodycount\, Boston Manor\, Boysetsfire\, Bring me the Horizon\, Callejon\, Capstan\, Casey\, Code Orange\, Comeback Kid\, Counterparts\, Currents\, Dance Gavin Dance\, Deez Nuts\, Defeater\, Disturbed\, Driveways\, Electric Callboy\, Enter Shikari\, Escape the Fate\, Falling in Reverse\, Fever 333\, Five Finger Death Punch\, Four Year Strong\, Funeral for a Friend\, Have Heart\, Hawthorne Heights\, Helmet\, Holding Absence\, Hollywood Undead\, Hot Milk\, Ice Nine Kills\, Ignite\, Imminence\, Incubus\, I Prevail\, Korn\, Knocked Loose\, L.S. Dunes\, La Dispute\, Landmvrks\, Limp Bizkit\, Linkin Park\, Machine Head\, Motionless in White\, Movements\, Northlane\, Ocean ate Alaska\, Of Mice and Men\, P.O.D.\, Parkway Drive\, Papa Roach\, Pianos become the Teeth\, Pierce the Veil\, Polaris\, Powerman 5000\, Rage against the Machine\, Refused\, Rise against\, Rise of the North Star\, Samurai Pizza Cats\, Say anything\, Secrets\, Sepultura\, Silverstein\, Sleeping with Sirens\, Slipknot\, Staind\, Static-X\, Story of the Year\, System of a Down\, Taproot\, The Amity Affliction\, The Devil wears Prada\, The Ghost Inside\, The Hunna\, The Plot in you\, The Used\, Thousand Below\, Three Days Grace\, Thrice\, Title Fight\, Touché Amoré\, Trapt\, Turnstile\, Underoath\, We came as Romans\, While she sleeps und noch viele mehr
URL:https://die-trompete.de/event/sandpit-turtle-metalcore-post-hardcore-nu-metal-melodic-hardcore-party/
LOCATION:Die Trompete &#8211; Bochum\, Viktoriastr. 45\, Bochum\, NRW\, 44787\, Deutschland
CATEGORIES:Party
ATTACH;FMTTYPE=image/jpeg:https://die-trompete.de/wp-content/uploads/2024/12/Sandpit-Turtle-2025-scaled.jpg
END:VEVENT
BEGIN:VEVENT
DTSTART;TZID=Europe/Berlin:20260523T230000
DTEND;TZID=Europe/Berlin:20260524T050000
DTSTAMP:20260421T130902
CREATED:20260420T101928Z
LAST-MODIFIED:20260420T101928Z
UID:10002388-1779577200-1779598800@die-trompete.de
SUMMARY:Last Resort // Rock / Nu Metal / Post Hardcore / Melodic Hardcore Party
DESCRIPTION:Last Resort\n\nTauche ein in die Welt der lauten Screamos\, treibenden Drums\, härtesten Riffs und mächtigsten Breakdowns. Willkommen bei LAST RESORT\, unserer / Rock / Nu Metal / Post Hardcore / Melodic Hardcore / Party.\n\nMit:\n21 Pilots\, A Day To Remember\, Agnostic Front\, Alesana\, Alexisonfire\, Architects\, Asking Alexandria\, At the Drive-In\, Alien Ant Farm\, Atreyu\, Balance and Composure\, Bayside\, Beartooth\, Belmont\, Billy Talent\, Biohazard\, Blink-182\, Bodycount\, Boston Manor\, Boysetsfire\, Bring me the Horizon\, Casey\, Casper\, Currents\, Dance Gavin Dance\, Deez Nuts\, Disturbed\, Driveways\, Escape the Fate\, Electric Callboy\, Enter Shikari\, Falling in Reverse\, Fever 333\, Five Finger Death Punch\, Foo Fighters\, Four Year Strong\, Funeral for a Friend\, Green Day\, Hawthorne Heights\, Heisskalt\, Holding Absence\, Hollywood Undead\, House of Pain\, Ice Nine Kills\, Imminence\, I Prevail\, Korn\, K.I.Z.\, L.S. Dunes\, La Dispute\, Landmvrks\, Limp Bizkit\, Linkin Park\, Machine Head\, Motionless in White\, Movements\, Muse\, N.E.R.D.\, Nine Inch Nails\, Of Mice and Men\, Parkway Drive\, P.O.D.\, Papa Roach\, Pierce the Veil\, Rage against the Machine\, Refused\, Rise against\, Say anything\, Secrets\, Silverstein\, Sleeping with Sirens\, Slipknot\, Story of the Year\, Sum 41\, System of a Down\, The Amity Affliction\, The Devil wears Prada\, The Ghost Inside\, The Hunna\, The Offspring\, The Plot in you\, The Used\, Three Days Grace\, Thrice\, Touché Amoré\, Trapt\, Turnstile\, Underoath\, We came as Romans\, und noch viele mehr
URL:https://die-trompete.de/event/last-resort-rock-nu-metal-post-hardcore-melodic-hardcore-party-3/
LOCATION:Die Trompete &#8211; Bochum\, Viktoriastr. 45\, Bochum\, NRW\, 44787\, Deutschland
CATEGORIES:Party
ATTACH;FMTTYPE=image/jpeg:https://die-trompete.de/wp-content/uploads/2022/09/Last-Resort-2024.jpg
END:VEVENT
END:VCALENDAR