BEGIN:VCALENDAR
VERSION:2.0
PRODID:-//Die Trompete - ECPv6.15.18//NONSGML v1.0//EN
CALSCALE:GREGORIAN
METHOD:PUBLISH
X-ORIGINAL-URL:https://die-trompete.de
X-WR-CALDESC:Veranstaltungen für Die Trompete
REFRESH-INTERVAL;VALUE=DURATION:PT1H
X-Robots-Tag:noindex
X-PUBLISHED-TTL:PT1H
BEGIN:VTIMEZONE
TZID:Europe/Berlin
BEGIN:DAYLIGHT
TZOFFSETFROM:+0100
TZOFFSETTO:+0200
TZNAME:CEST
DTSTART:20250330T010000
END:DAYLIGHT
BEGIN:STANDARD
TZOFFSETFROM:+0200
TZOFFSETTO:+0100
TZNAME:CET
DTSTART:20251026T010000
END:STANDARD
BEGIN:DAYLIGHT
TZOFFSETFROM:+0100
TZOFFSETTO:+0200
TZNAME:CEST
DTSTART:20260329T010000
END:DAYLIGHT
BEGIN:STANDARD
TZOFFSETFROM:+0200
TZOFFSETTO:+0100
TZNAME:CET
DTSTART:20261025T010000
END:STANDARD
BEGIN:DAYLIGHT
TZOFFSETFROM:+0100
TZOFFSETTO:+0200
TZNAME:CEST
DTSTART:20270328T010000
END:DAYLIGHT
BEGIN:STANDARD
TZOFFSETFROM:+0200
TZOFFSETTO:+0100
TZNAME:CET
DTSTART:20271031T010000
END:STANDARD
END:VTIMEZONE
BEGIN:VEVENT
DTSTART;TZID=Europe/Berlin:20260217T190000
DTEND;TZID=Europe/Berlin:20260217T230000
DTSTAMP:20260421T200444
CREATED:20260107T092827Z
LAST-MODIFIED:20260107T092827Z
UID:10002203-1771354800-1771369200@die-trompete.de
SUMMARY:Rausgegangen Geheimkonzert - live
DESCRIPTION:🤫 Die geheimste Konzertreihe in deiner Stadt &#8211; sei dabei! 🤫 \nDu liebst Konzerte und entdeckst gerne neue Künstler:innen? Dann sind Geheimkonzerte von Rausgegangen das perfekte Event für dich.\nDie beliebteste Konzertreihe der Rausgegangen Community kommt zum Geheimkonzert #2 nach Bochum! Das letzte Geheimkonzert habt ihr restlos ausverkauft &#8211; also jetzt dabei sein\, wenn du es beim letzten Mal verpasst hast! \nWas sind eigentlich Geheimkonzerte? \nWas wir dir verraten: Wann und wo das Konzert stattfindet.\nWas wir dir nicht verraten: Welche zwei besonderen Künstler:innen auftreten. \nEinen kleinen Tipp bekommst du schon von uns: Wenn du Genres wie Deutsch-\, Indie-\, Elektropop und Rap magst\, dann bist du bei einem Geheimkonzert genau richtig! \nVon frytz und TJARK über Dani Lia\, Paula Engels und Elias bis hin zu Jassin und Rikas &#8211; deine aktuellen Lieblingsartists hatten wir alle schon auf der Bühne. Hör einfach mal in unsere Playlist rein und überzeuge dich selbst\, wer bei uns schon so gespielt hat. 😎 🎧 \n🎁 Das perfekte Geschenk für Musikliebhaber:innen: Unser Geheimkonzerte Gutschein – damit du nicht nur dich selbst\, sondern auch deine Liebsten mit einzigartigen Konzerterlebnissen überraschen kannst. Mehr Infos findest du hier und auch die Tickets. \nWeitere Infos: \nEinlass: 19 Uhr\nBeginn Konzerte: 20 Uhr\nEnde: ca. 22:15 Uhr \nBitte beachte: Die Location ist NICHT barrierefrei!
URL:https://die-trompete.de/event/rausgegangen-geheimkonzert-live-2/
LOCATION:Die Trompete &#8211; Bochum\, Viktoriastr. 45\, Bochum\, NRW\, 44787\, Deutschland
CATEGORIES:Konzert
ATTACH;FMTTYPE=image/png:https://die-trompete.de/wp-content/uploads/2026/01/xuOSdE0ORrC5lbmTlKcS_gkfinal16x9photo-26.png
ORGANIZER;CN="rausgegangen":MAILTO:hello@adriankrummel.de
END:VEVENT
BEGIN:VEVENT
DTSTART;TZID=Europe/Berlin:20260219T220000
DTEND;TZID=Europe/Berlin:20260220T040000
DTSTAMP:20260421T200444
CREATED:20241210T144506Z
LAST-MODIFIED:20260109T124725Z
UID:10002232-1771538400-1771560000@die-trompete.de
SUMMARY:Mit viel Liebe - Die Studiparty in der Trompete
DESCRIPTION:🎉 Mit viel Liebe – Die Studiparty! 🎉 \nJeden Donnerstag ab 22:00 Uhr in der legendären Trompete im Bermuda3Eck\, Bochum! 🌟 \nFreut euch auf eine unvergessliche Nacht mit den besten Hits zum Mitsingen! 🎤\nVon Indie\, Hip-Hop bis Alternative Rock – aber am Donnerstag brechen wir die Genregrenzen!\n🎧💥 Aktuelle und ältere Popsongs dürfen natürlich nicht fehlen! 🎶 \nLasst uns gemeinsam den Vize-Freitag zur Party-Nacht machen! 🌙✨ \nUnd hey – Nicht-Studis sind auch herzlich willkommen! Kommt vorbei und feiert mit uns! 🥳💃🕺 \n#Studiparty #Bochum #Trompete #Bermuda3Eck #Partytime #DonnerstagFieber
URL:https://die-trompete.de/event/mit-viel-liebe-die-studiparty-in-der-trompete-2/2026-02-19/
LOCATION:Die Trompete &#8211; Bochum\, Viktoriastr. 45\, Bochum\, NRW\, 44787\, Deutschland
CATEGORIES:Party
ATTACH;FMTTYPE=image/jpeg:https://die-trompete.de/wp-content/uploads/2024/12/website-quer-scaled.jpg
END:VEVENT
BEGIN:VEVENT
DTSTART;TZID=Europe/Berlin:20260220T230000
DTEND;TZID=Europe/Berlin:20260221T050000
DTSTAMP:20260421T200444
CREATED:20260129T120058Z
LAST-MODIFIED:20260129T120058Z
UID:10002327-1771628400-1771650000@die-trompete.de
SUMMARY:INTO THE NIGHT // HOTTEST DANCE PARTY
DESCRIPTION:20.02.2026\, in Bochum! \nFunk\, Boogie\, Rare Grooves\, House Vibes & World Music mit Michael Peif\, Max Gyver\, Kurtis Flow & very Special Guest DJ!  Wir heben ab Richtung Funkuniversum. Kommt vorbei zieht eure Tanschuhe an und lasst uns gemeinsam eine wilde „IntoTheNight“ im Club feiern! \nOne Love \nDJs: Michael Peif\, Max Gyver\, Kurtis Flow & very Special Guest
URL:https://die-trompete.de/event/into-the-night-hottest-dance-party-3/
LOCATION:Die Trompete &#8211; Bochum\, Viktoriastr. 45\, Bochum\, NRW\, 44787\, Deutschland
ATTACH;FMTTYPE=image/jpeg:https://die-trompete.de/wp-content/uploads/2026/01/20260127_113639-scaled.jpg
END:VEVENT
BEGIN:VEVENT
DTSTART;TZID=Europe/Berlin:20260221T170000
DTEND;TZID=Europe/Berlin:20260221T223000
DTSTAMP:20260421T200444
CREATED:20251126T120351Z
LAST-MODIFIED:20251126T203521Z
UID:10002180-1771693200-1771713000@die-trompete.de
SUMMARY:Avalon\, Release Show - live
DESCRIPTION:THE GRIP OF THE CLAW RISES ASTRAL CLAW RELEASE SHOW \nAvalon\nHellish Crossfire\nWitching Hour\nMidnight Prey \nEinlass 17:00 Beginn 18:00\nTickets
URL:https://die-trompete.de/event/midnight-prey-avalon-live/
LOCATION:Die Trompete &#8211; Bochum\, Viktoriastr. 45\, Bochum\, NRW\, 44787\, Deutschland
CATEGORIES:Konzert
ATTACH;FMTTYPE=image/jpeg:https://die-trompete.de/wp-content/uploads/2025/11/1000217128.jpg
END:VEVENT
BEGIN:VEVENT
DTSTART;TZID=Europe/Berlin:20260221T230000
DTEND;TZID=Europe/Berlin:20260222T050000
DTSTAMP:20260421T200444
CREATED:20260129T120459Z
LAST-MODIFIED:20260129T120649Z
UID:10002328-1771714800-1771736400@die-trompete.de
SUMMARY:Emo! at the Disco // Emo-Party
DESCRIPTION:Emo! at the Disco\n\nWaren wir nicht früher alle unverstanden\, melancholisch\, haben uns nicht geliebt gefühlt und den Weltschmerz in all seinen Facetten gespürt?\n\nAlso packt alle eure Nautical-Star-Patches\, die Jack Skeleton Haarspangen\, Rasierklingen-Ketten\, Nietengürtel und tonnenweise Kajal aus der Mottenkiste und lasst uns gemeinsam die Emo-Zeit wieder aufleben! Schließlich hat sich die Welt nicht unbedingt verbessert  …. \n\nAn den Decks:\nMiss Murder\nSchorsch Klunie\n\nWir bringen euch die Emo-Zeit zurück mit:\nA Day To Remember\, AFI\, Alesana\, Alexisonfire\, All Time Low\, Armor for Sleep\, As it is\, Asking Alexandria\, Atreyu\, At the Drive-In\, Bayside\, Beartooth\, Blink-182\, Boysetsfire\, Brand New\, Bring me the Horizon\, Bullet for my Valentine\, Coheed and Cambria\, Dashboard Confessional\, Escape The Fate\, Evanescence\, Fall Out Boy\, Falling in Reverse\, Finch\, Forever the sickest Kids\, From Autumn to Ashes\, Funeral for a Friend\, Good Charlotte\, Green Day\, Hawthorne Heights\, I Prevail\, Matchbook Romance\, My Chemical Romance\, Panic! At the Disco\, Papa Roach\, Paramore\, Pierce the Veil\, Real Friends\, Rise against\, Saosin\, Senses Fail\, Silverstein\, Simple Plan\, Sleeping with Sirens\, Taking back Sunday\, The Academy is…\, The All-American Rejects\, The Killers\, The Offspring\, The Used\, Thirty seconds to Mars\, Thursday\, Underoath\, We came as Romans\, Yellowcard u.v.m.
URL:https://die-trompete.de/event/emo-at-the-disco-emo-party-3/2026-02-21/
LOCATION:Die Trompete &#8211; Bochum\, Viktoriastr. 45\, Bochum\, NRW\, 44787\, Deutschland
CATEGORIES:Party
ATTACH;FMTTYPE=image/webp:https://die-trompete.de/wp-content/uploads/2022/09/Emo-at-the-disco-Homepage.webp
END:VEVENT
END:VCALENDAR