BEGIN:VCALENDAR
VERSION:2.0
PRODID:-//Die Trompete - ECPv6.15.18//NONSGML v1.0//EN
CALSCALE:GREGORIAN
METHOD:PUBLISH
X-ORIGINAL-URL:https://die-trompete.de
X-WR-CALDESC:Veranstaltungen für Die Trompete
REFRESH-INTERVAL;VALUE=DURATION:PT1H
X-Robots-Tag:noindex
X-PUBLISHED-TTL:PT1H
BEGIN:VTIMEZONE
TZID:Europe/Berlin
BEGIN:DAYLIGHT
TZOFFSETFROM:+0100
TZOFFSETTO:+0200
TZNAME:CEST
DTSTART:20250330T010000
END:DAYLIGHT
BEGIN:STANDARD
TZOFFSETFROM:+0200
TZOFFSETTO:+0100
TZNAME:CET
DTSTART:20251026T010000
END:STANDARD
BEGIN:DAYLIGHT
TZOFFSETFROM:+0100
TZOFFSETTO:+0200
TZNAME:CEST
DTSTART:20260329T010000
END:DAYLIGHT
BEGIN:STANDARD
TZOFFSETFROM:+0200
TZOFFSETTO:+0100
TZNAME:CET
DTSTART:20261025T010000
END:STANDARD
BEGIN:DAYLIGHT
TZOFFSETFROM:+0100
TZOFFSETTO:+0200
TZNAME:CEST
DTSTART:20270328T010000
END:DAYLIGHT
BEGIN:STANDARD
TZOFFSETFROM:+0200
TZOFFSETTO:+0100
TZNAME:CET
DTSTART:20271031T010000
END:STANDARD
END:VTIMEZONE
BEGIN:VEVENT
DTSTART;TZID=Europe/Berlin:20260319T220000
DTEND;TZID=Europe/Berlin:20260320T040000
DTSTAMP:20260425T222309
CREATED:20241210T144506Z
LAST-MODIFIED:20260109T124725Z
UID:10002236-1773957600-1773979200@die-trompete.de
SUMMARY:Mit viel Liebe - Die Studiparty in der Trompete
DESCRIPTION:🎉 Mit viel Liebe – Die Studiparty! 🎉 \nJeden Donnerstag ab 22:00 Uhr in der legendären Trompete im Bermuda3Eck\, Bochum! 🌟 \nFreut euch auf eine unvergessliche Nacht mit den besten Hits zum Mitsingen! 🎤\nVon Indie\, Hip-Hop bis Alternative Rock – aber am Donnerstag brechen wir die Genregrenzen!\n🎧💥 Aktuelle und ältere Popsongs dürfen natürlich nicht fehlen! 🎶 \nLasst uns gemeinsam den Vize-Freitag zur Party-Nacht machen! 🌙✨ \nUnd hey – Nicht-Studis sind auch herzlich willkommen! Kommt vorbei und feiert mit uns! 🥳💃🕺 \n#Studiparty #Bochum #Trompete #Bermuda3Eck #Partytime #DonnerstagFieber
URL:https://die-trompete.de/event/mit-viel-liebe-die-studiparty-in-der-trompete-2/2026-03-19/
LOCATION:Die Trompete &#8211; Bochum\, Viktoriastr. 45\, Bochum\, NRW\, 44787\, Deutschland
CATEGORIES:Party
ATTACH;FMTTYPE=image/jpeg:https://die-trompete.de/wp-content/uploads/2024/12/website-quer-scaled.jpg
END:VEVENT
BEGIN:VEVENT
DTSTART;TZID=Europe/Berlin:20260320T230000
DTEND;TZID=Europe/Berlin:20260321T050000
DTSTAMP:20260425T222309
CREATED:20260210T102058Z
LAST-MODIFIED:20260210T102058Z
UID:10002346-1774047600-1774069200@die-trompete.de
SUMMARY:✨ WHO RUN THE WORLD – FLINTA x FLINTA** ✨
DESCRIPTION:✨ WHO RUN THE WORLD – FLINTA x FLINTA** ✨\n| 2000s RnB & Afrobeats | Safe Space\n23:00Uhr\nDie Trompete Bochum\n \n\nWir öffnen den Dancefloor für eine Nacht voller Wärme\, Bass und Community.\nEs warten smooth 2000er RnB Hits\, Afrobeats\, vibey Energy und ein Raum\, der für FLINTA von FLINTA** geschaffen wurde.\n\n🌈 Queer-friendly. Empowernd. Sensibel.\n💃🏾 Feel the rhythm. Own the space.\n🔥 Come as you are – stay as you feel.\n\nParty\, Power – ein Abend für uns.\nWir sehen uns dort. ✨
URL:https://die-trompete.de/event/%e2%9c%a8-who-run-the-world-flinta-x-flinta-%e2%9c%a8-2/2026-03-20/
LOCATION:Die Trompete &#8211; Bochum\, Viktoriastr. 45\, Bochum\, NRW\, 44787\, Deutschland
CATEGORIES:Party
END:VEVENT
BEGIN:VEVENT
DTSTART;TZID=Europe/Berlin:20260321T200000
DTEND;TZID=Europe/Berlin:20260321T230000
DTSTAMP:20260425T222309
CREATED:20260205T073722Z
LAST-MODIFIED:20260319T094809Z
UID:10002341-1774123200-1774134000@die-trompete.de
SUMMARY:Berthold City - live
DESCRIPTION:Stronger bookings präsentiert \nBERTHOLD CITY\nSTATIC VOID\nENFIRED &#8211; 1st show! \nEinlass 19:00 Start 20:00\nTickets \nMit BERTHOLD CITY kommt eine der aktuell spannendsten Hardcore-Bands aus Los Angeles nach Bochum. Die Band verbindet klassische Youth-Crew-Attitüde mit modernem Westcoast-Hardcore und steht für positive Message\, Energie und pure Live-Power. \nDen Abend öffnen und ihre erste Show spielen Enfired! Mit Leuten von Clearcut\, Die Negation\, Hexer und Seventh Seal Broken. \nEin Muss für alle Fans von energiegeladenem\, authentischem Hardcore.
URL:https://die-trompete.de/event/berthold-city-live/
LOCATION:Die Trompete &#8211; Bochum\, Viktoriastr. 45\, Bochum\, NRW\, 44787\, Deutschland
CATEGORIES:Konzert
ATTACH;FMTTYPE=image/jpeg:https://die-trompete.de/wp-content/uploads/2026/02/BERTHOLDCITY_POST-Kopie.jpg
END:VEVENT
BEGIN:VEVENT
DTSTART;TZID=Europe/Berlin:20260321T230000
DTEND;TZID=Europe/Berlin:20260322T050000
DTSTAMP:20260425T222309
CREATED:20260310T102044Z
LAST-MODIFIED:20260310T102044Z
UID:10002354-1774134000-1774155600@die-trompete.de
SUMMARY:A Night To Remember // Pop Punk Special
DESCRIPTION:A NIGHT TO REMEMBER \n\n\nWir feiern 8 Jahre Pop Punk-Party mit einem Punk goes Pop Birthday-Special! 🎉\nWir sind immer noch just a kid\, still into you und not okay.\nUnd genau das wollen wir mit euch feiern! 🥳 \nMit dabei:\nA Day To Remember\, Against the Current\, Alkaline Trio\, Alles feat. Travis Barker\, All Time Low\, American Hi-Fi\, As December falls\, As it is\, Avril Lavigne\, Bayside\, Bearings\, Between You and Me\, Blink-182\, Boys like Girls\, Brand New\, Broadside\, Cobra Starship\, Cute Is What We Aim For\, De’Wayne\, Dreamers\, Fall Out Boy\, Flash Forward\, Four Year Strong\, girlfriends\, Good Charlotte\, Green Day\, Heroes For Hire\, jxdn\, Kenny Hoopla\, Knuckle Puck\, LØLØ\, Machine Gun Kelly\, Magnolia Park\, Man Overboard\, Mayday Parade\, Meet me @ the Altar\, Metro Station\, Mest\, MOD SUN\, My Chemical Romance\, Neck Deep\, New Found Glory\, Pale Waves\, Panic! At The Disco\, Paramore\, Point North\, Real Friends\, Rise Against\, ROAM\, Set it off\, Simple Plan\, Stand Atlantic\, State Champs\, Story Of The Year\, Sueco\, Sum 41\, Taking Back Sunday\, The Academy Is\, The Audition\, The Menzingers\, The Offspring\, The Summer Set\, The Used\, The Story So Far\, The Wonder Years\, Trophy Eyes\, Waterparks\, Willow\, With Confidence\, WSTR\, Yellowcard\, Youth Fountain\, Yungblud\, Zebrahead und noch viele mehr.
URL:https://die-trompete.de/event/a-night-to-remember-pop-punk-4-2/
LOCATION:Die Trompete &#8211; Bochum\, Viktoriastr. 45\, Bochum\, NRW\, 44787\, Deutschland
CATEGORIES:Party
ATTACH;FMTTYPE=image/webp:https://die-trompete.de/wp-content/uploads/2022/09/A-Night-To-Remember-Homepage.webp
END:VEVENT
BEGIN:VEVENT
DTSTART;TZID=Europe/Berlin:20260322T183000
DTEND;TZID=Europe/Berlin:20260322T220000
DTSTAMP:20260425T222309
CREATED:20251117T112518Z
LAST-MODIFIED:20260225T073418Z
UID:10002177-1774204200-1774216800@die-trompete.de
SUMMARY:Gridiron - live
DESCRIPTION:GridironDespizeDemonstration Of Power\nSIN \n\nEinlass 18:30\, Start 19:30\nTickets\n\nAm 22. März 2026 gibt es in Bochum nur einen Ort\, an dem ihr sein wollt: die Trompete. Denn dort stehen drei absolute Schwergewichte des US und UK-Hardcores auf der Bühne:\n\nGridiron bringen ihren unverwechselbaren Mix aus Hardcore und Hip-Hop-Vibes direkt aus Philadelphia ins Ruhrgebiet – schwer\, groovig und garantiert zerstörerisch. Mit Demonstration Of Power aus New York gibt es dazu noch brutalen Beatdown-Hardcore\, der euch keine Sekunde zum Durchatmen lässt.\n\nDieses Paket kommt so schnell nicht wieder nach Deutschland – wer nicht dabei ist\, verpasst einen der intensivsten Hardcore-Abende des Jahres. Keine Ausreden\, kein Zögern: 22. März\, Trompete Bochum.
URL:https://die-trompete.de/event/gridiron-live/
LOCATION:Die Trompete &#8211; Bochum\, Viktoriastr. 45\, Bochum\, NRW\, 44787\, Deutschland
CATEGORIES:Konzert
ATTACH;FMTTYPE=image/jpeg:https://die-trompete.de/wp-content/uploads/2025/11/IG-Square-Spec-Kopie-1.jpg
END:VEVENT
END:VCALENDAR