BEGIN:VCALENDAR
VERSION:2.0
PRODID:-//Die Trompete - ECPv6.15.18//NONSGML v1.0//EN
CALSCALE:GREGORIAN
METHOD:PUBLISH
X-WR-CALNAME:Die Trompete
X-ORIGINAL-URL:https://die-trompete.de
X-WR-CALDESC:Veranstaltungen für Die Trompete
REFRESH-INTERVAL;VALUE=DURATION:PT1H
X-Robots-Tag:noindex
X-PUBLISHED-TTL:PT1H
BEGIN:VTIMEZONE
TZID:Europe/Berlin
BEGIN:DAYLIGHT
TZOFFSETFROM:+0100
TZOFFSETTO:+0200
TZNAME:CEST
DTSTART:20250330T010000
END:DAYLIGHT
BEGIN:STANDARD
TZOFFSETFROM:+0200
TZOFFSETTO:+0100
TZNAME:CET
DTSTART:20251026T010000
END:STANDARD
BEGIN:DAYLIGHT
TZOFFSETFROM:+0100
TZOFFSETTO:+0200
TZNAME:CEST
DTSTART:20260329T010000
END:DAYLIGHT
BEGIN:STANDARD
TZOFFSETFROM:+0200
TZOFFSETTO:+0100
TZNAME:CET
DTSTART:20261025T010000
END:STANDARD
BEGIN:DAYLIGHT
TZOFFSETFROM:+0100
TZOFFSETTO:+0200
TZNAME:CEST
DTSTART:20270328T010000
END:DAYLIGHT
BEGIN:STANDARD
TZOFFSETFROM:+0200
TZOFFSETTO:+0100
TZNAME:CET
DTSTART:20271031T010000
END:STANDARD
END:VTIMEZONE
BEGIN:VEVENT
DTSTART;TZID=Europe/Berlin:20260325T200000
DTEND;TZID=Europe/Berlin:20260325T230000
DTSTAMP:20260422T145917
CREATED:20260205T073856Z
LAST-MODIFIED:20260205T073856Z
UID:10002342-1774468800-1774479600@die-trompete.de
SUMMARY:Hyena\, Neck Cemetary - live
DESCRIPTION:HYENA\nNECK CEMETARY \nEinlass 19:00 Start 20:00\nTickets \nHYENA stammen aus Cajamarca in Peru und mischen kompromisslosen Heavy Metal mit düsterer Wucht und modernen Einflüssen. Seit ihrer Gründung 2018 haben sie sich der Bewahrung des echten\, alten Heavy-Metal-Geistes verschrieben — roh\, unverfälscht und mit Leidenschaft. \nNeck Cemetery kommen aus Nordrhein-Westfalen\, Deutschland\, genauer aus dem Raum Köln/Ruhrgebiet. Gegründet 2018\, liefern sie klassischen Heavy Metal mit klaren Einflüssen aus der alten Schule — mit kraftvollen Gitarren\, treibenden Drums und einem Sound\, der nach Leder\, Nieten und purem Headbanging schreit.
URL:https://die-trompete.de/event/hyena-neck-cemetary-live/
LOCATION:Die Trompete &#8211; Bochum\, Viktoriastr. 45\, Bochum\, NRW\, 44787\, Deutschland
CATEGORIES:Konzert
ATTACH;FMTTYPE=image/jpeg:https://die-trompete.de/wp-content/uploads/2026/02/HYENA-WORLD-TOUR-EU26-Kopie.jpg
END:VEVENT
BEGIN:VEVENT
DTSTART;TZID=Europe/Berlin:20260326T220000
DTEND;TZID=Europe/Berlin:20260327T040000
DTSTAMP:20260422T145917
CREATED:20241210T144506Z
LAST-MODIFIED:20260109T124725Z
UID:10002237-1774562400-1774584000@die-trompete.de
SUMMARY:Mit viel Liebe - Die Studiparty in der Trompete
DESCRIPTION:🎉 Mit viel Liebe – Die Studiparty! 🎉 \nJeden Donnerstag ab 22:00 Uhr in der legendären Trompete im Bermuda3Eck\, Bochum! 🌟 \nFreut euch auf eine unvergessliche Nacht mit den besten Hits zum Mitsingen! 🎤\nVon Indie\, Hip-Hop bis Alternative Rock – aber am Donnerstag brechen wir die Genregrenzen!\n🎧💥 Aktuelle und ältere Popsongs dürfen natürlich nicht fehlen! 🎶 \nLasst uns gemeinsam den Vize-Freitag zur Party-Nacht machen! 🌙✨ \nUnd hey – Nicht-Studis sind auch herzlich willkommen! Kommt vorbei und feiert mit uns! 🥳💃🕺 \n#Studiparty #Bochum #Trompete #Bermuda3Eck #Partytime #DonnerstagFieber
URL:https://die-trompete.de/event/mit-viel-liebe-die-studiparty-in-der-trompete-2/2026-03-26/
LOCATION:Die Trompete &#8211; Bochum\, Viktoriastr. 45\, Bochum\, NRW\, 44787\, Deutschland
CATEGORIES:Party
ATTACH;FMTTYPE=image/jpeg:https://die-trompete.de/wp-content/uploads/2024/12/website-quer-scaled.jpg
END:VEVENT
BEGIN:VEVENT
DTSTART;TZID=Europe/Berlin:20260327T190000
DTEND;TZID=Europe/Berlin:20260327T230000
DTSTAMP:20260422T145917
CREATED:20260302T203903Z
LAST-MODIFIED:20260303T142302Z
UID:10002371-1774638000-1774652400@die-trompete.de
SUMMARY:The Early Emo
DESCRIPTION:🎸 The Early Emo 🥀\nDie Refrains\, die ihr kennt.\nDie Uhrzeit\, die ihr wolltet. \n🎶 EMO x POP PUNK HITS🎸\n🥀Because it was never just a phase.🖤\nAbendkasse: 10\,00€\nVorverkauf: 8\,00€ \nWir bringen euch die Emo-Ära zurück mit: A Day to Remember\, All Time Low\, Atreyu\, Avril Lavigne\, Blink-182\, Black Veil Brides\, Boys Like Girls\, Bring Me the Horizon\, Bullet for My Valentine\, Chiodos\, Dashboard Confessional\, Escape the Fate\, Fall Out Boy\, From First to Last\, Funeral for a Friend\, Good Charlotte\, Green Day\, Hawthorne Heights\, Jimmy Eat World\, Machine Gun Kelly\, Mayday Parade\, My Chemical Romance\, New Found Glory\, Panic! at The Disco\, Paramore\, Pierce the Veil\, Saosin\, Senses Fail\, Silverstein\, Simple Plan\, Sleeping with Sirens\, Sum 41\, Taking Back Sunday\, The All-American Rejects\, The Maine\, The Red Jumpsuit Apparatus\, The Starting Line\, The Used\, Underoath\, We the Kings\, Yellowcard\, Yungblud u. v. m. \nAn den Decks:\nMiss Murder\nSchorsch Klunie
URL:https://die-trompete.de/event/early-emo-at-the-disco/
LOCATION:Die Trompete &#8211; Bochum\, Viktoriastr. 45\, Bochum\, NRW\, 44787\, Deutschland
CATEGORIES:Party
ATTACH;FMTTYPE=image/jpeg:https://die-trompete.de/wp-content/uploads/2026/03/emo-at-the-disco-marmor-plakat-maerz-scaled.jpg
END:VEVENT
BEGIN:VEVENT
DTSTART;TZID=Europe/Berlin:20260327T230000
DTEND;TZID=Europe/Berlin:20260328T050000
DTSTAMP:20260422T145917
CREATED:20260210T102634Z
LAST-MODIFIED:20260302T203514Z
UID:10002370-1774652400-1774674000@die-trompete.de
SUMMARY:Live Forever – Indie-Classics & Brit Pop
DESCRIPTION:🎸 LIVE FOREVER: Indie-Classics & Brit Pop Party! 🎉\nTauche ein in die besten Indie-Klassiker der 80er\, 90er und 00er – plus die größten Brit-Pop Hits aller Zeiten! \n🎶 Für alle\, die Gitarrenmusik und unvergessliche Momente lieben – das ist eure Nacht! \n🎧 An den Decks: TOBI TORBA \nMit dabei: Arctic Monkeys\, Oasis\, Blur\, The Kooks\, Muse\, The Killers\, Mando Diao\, Hard-FI\, Kings of Leon\, QOTSA\, The Hives\, Kaiser Chiefs\, Interpol\, MGMT\, Beatsteaks\, The Smiths\, The Cure\, Jet\, Bloc Party\, Foals\, Stone Roses\, Madsen\, Wir sind Helden\, Vampire Weekend\, Placebo und viele mehr! 🎵 \nMarkiert eure Freunde und seid dabei – es wird legendär! ✨ \n#IndieClassics #BritPopParty #LiveForever
URL:https://die-trompete.de/event/live-forever-indie-classics-brit-pop-7/
LOCATION:Die Trompete &#8211; Bochum\, Viktoriastr. 45\, Bochum\, NRW\, 44787\, Deutschland
CATEGORIES:Party
ATTACH;FMTTYPE=image/webp:https://die-trompete.de/wp-content/uploads/2023/01/Live-Forever-scaled.webp
END:VEVENT
BEGIN:VEVENT
DTSTART;TZID=Europe/Berlin:20260328T180000
DTEND;TZID=Europe/Berlin:20260328T230000
DTSTAMP:20260422T145917
CREATED:20260205T074312Z
LAST-MODIFIED:20260225T075207Z
UID:10002343-1774720800-1774738800@die-trompete.de
SUMMARY:Semi Wasted - live
DESCRIPTION:SemiWasted – Album Release „Acrophobia“ \nLucky Lou & Akzent One\nHARBOR\nSPY#Row\nSemi Wasted \nEinlass 18:00\, Start 18:30\nTicket \nWir bringen unser erstes Album „Acrophobia“ auf die Bühne — und ja: wir haben richtig Bock drauf. \nNach knapp 1½ Jahren Studiozeit ist das Ding endlich fertig. Um das zu feiern und die Songs endlich live spielen zu können\, laden wir euch in die Trompete Bochum ein. Wir spielen das komplette Album plus ein paar ältere Banger. \n„Acrophobia“ bedeutet Höhenangst. Der Titel ist weniger Konzept\, mehr Gefühl: Spannung\, Kopfchaos\, dieses Schwanken zwischen Kontrolle und Loslassen. Die neuen Songs sind direkter geworden — und genau so kommen sie auch live. \nUnterstützt werden wir von: \nLucky Lou & Akzent One (Bochum)\nhttps://www.instagram.com/lucky_lauter_lou/ \nHARBOR (Bochum)\nSpy#Row (Frankfurt)\nhttps://spyrow.de/
URL:https://die-trompete.de/event/semi-wasted-live/
LOCATION:Die Trompete &#8211; Bochum\, Viktoriastr. 45\, Bochum\, NRW\, 44787\, Deutschland
CATEGORIES:Konzert
ATTACH;FMTTYPE=image/jpeg:https://die-trompete.de/wp-content/uploads/2026/02/2026-03-28-Semi-Wasted-Trompete-Insta-2-scaled.jpg
END:VEVENT
BEGIN:VEVENT
DTSTART;TZID=Europe/Berlin:20260328T230000
DTEND;TZID=Europe/Berlin:20260329T040000
DTSTAMP:20260422T145917
CREATED:20260109T133706Z
LAST-MODIFIED:20260109T133706Z
UID:10002305-1774738800-1774756800@die-trompete.de
SUMMARY:༄ؘ ۪۪۫۫ ▹ schiebt anders ◃ ۪۪۫۫ ༄ؘ
DESCRIPTION:༄ؘ ۪۪۫۫ ▹ schiebt anders ◃ ۪۪۫۫ ༄ؘ\n♡✰ hyperpop・ indie・techno・eurodance ✰♡ \nMit euren Residents: Ali James & Lukas Kleinhaus\nUnd wechselnden Gästen \nKlingt wie:\nDilla\, Yung Hurn\, DJ Heartstring\, Ski Aggu\, Alice Deejay\, Edwin Rosen\, BRUTALISMUS 3000\, Marlon Hoffstadt\, Domiziana\, Blümchen\, Paula Hartmann\, emi x\, BHZ\, southstar\, luis ake\, 01099\, Baby B3ns\, $ONO$ CLIQ\, Longus Mongus\, Tropikel Ltd.\, SIRA
URL:https://die-trompete.de/event/%e0%bc%84%d8%98-%db%aa%db%aa%db%ab%db%ab-%e2%96%b9-schiebt-anders-%e2%97%83-%db%aa%db%aa%db%ab%db%ab-%e0%bc%84%d8%98-6/
LOCATION:Die Trompete &#8211; Bochum\, Viktoriastr. 45\, Bochum\, NRW\, 44787\, Deutschland
CATEGORIES:Party
ATTACH;FMTTYPE=image/jpeg:https://die-trompete.de/wp-content/uploads/2023/12/Schiebt-Anders-1223-e1707830088300.jpg
END:VEVENT
END:VCALENDAR