BEGIN:VCALENDAR
VERSION:2.0
PRODID:-//Die Trompete - ECPv6.15.18//NONSGML v1.0//EN
CALSCALE:GREGORIAN
METHOD:PUBLISH
X-ORIGINAL-URL:https://die-trompete.de
X-WR-CALDESC:Veranstaltungen für Die Trompete
REFRESH-INTERVAL;VALUE=DURATION:PT1H
X-Robots-Tag:noindex
X-PUBLISHED-TTL:PT1H
BEGIN:VTIMEZONE
TZID:Europe/Berlin
BEGIN:DAYLIGHT
TZOFFSETFROM:+0100
TZOFFSETTO:+0200
TZNAME:CEST
DTSTART:20250330T010000
END:DAYLIGHT
BEGIN:STANDARD
TZOFFSETFROM:+0200
TZOFFSETTO:+0100
TZNAME:CET
DTSTART:20251026T010000
END:STANDARD
BEGIN:DAYLIGHT
TZOFFSETFROM:+0100
TZOFFSETTO:+0200
TZNAME:CEST
DTSTART:20260329T010000
END:DAYLIGHT
BEGIN:STANDARD
TZOFFSETFROM:+0200
TZOFFSETTO:+0100
TZNAME:CET
DTSTART:20261025T010000
END:STANDARD
BEGIN:DAYLIGHT
TZOFFSETFROM:+0100
TZOFFSETTO:+0200
TZNAME:CEST
DTSTART:20270328T010000
END:DAYLIGHT
BEGIN:STANDARD
TZOFFSETFROM:+0200
TZOFFSETTO:+0100
TZNAME:CET
DTSTART:20271031T010000
END:STANDARD
END:VTIMEZONE
BEGIN:VEVENT
DTSTART;TZID=Europe/Berlin:20260422T190000
DTEND;TZID=Europe/Berlin:20260422T230000
DTSTAMP:20260426T052506
CREATED:20251020T174000Z
LAST-MODIFIED:20251020T174000Z
UID:10002158-1776884400-1776898800@die-trompete.de
SUMMARY:Oehl - Tour der guten Hoffnung (Verlängerung) - live
DESCRIPTION:OEHL\n+ Support\n\nEinlass 19:00\, Start 20:00\nTickets\n\nOehl\, die 4-köpfige Liveband um Sänger Ariel Oehl\, schmeißt eine Party\, die Tour der guten Hoffnung. Nach einer ausverkauften Großstädtetour 2025 geht diese in die zweite Runde\, und wie bei jedem ordentlichen Festakt darf auch bei den Shows von Oehl mitgegröhlt\, geschwitzt und getanzt werden\, in ruhigen Momenten\, etwa dem Akustik-Set\, werden allerdings auch feuchte Augen serviert und das ein oder andere Tränchen vergossen.\n\nDazu meint Ariel: &#8222;Ganz egal wie man zur Lage dieser Welt steht – ein Abend mit viel Gefühl und ein bisschen kollektive Hoffnung sei uns gegönnt!&#8220;
URL:https://die-trompete.de/event/oehl-tour-der-guten-hoffnung-verlaengerung-live/
LOCATION:Die Trompete &#8211; Bochum\, Viktoriastr. 45\, Bochum\, NRW\, 44787\, Deutschland
CATEGORIES:Konzert
ATTACH;FMTTYPE=image/jpeg:https://die-trompete.de/wp-content/uploads/2025/10/26-04-22-Bochum-Post-scaled.jpg
END:VEVENT
BEGIN:VEVENT
DTSTART;TZID=Europe/Berlin:20260423T190000
DTEND;TZID=Europe/Berlin:20260423T230000
DTSTAMP:20260426T052506
CREATED:20260331T171156Z
LAST-MODIFIED:20260331T171156Z
UID:10002381-1776970800-1776985200@die-trompete.de
SUMMARY:Remote Bondage - live
DESCRIPTION:GOOD GIRLS GO TO HELL – TOUR 2026 \nEinlass 19:00 Start 20:00 \nTickets\n\nREMOTE BONDAGE stolzieren mit ihrem frisch geborenen Debütalbum (GOOD GIRL – erscheint April 2026) direkt auf die Bühne: ein Manifest in Rosa\, voller Energie\, roher Emotion und funkelnder Wut. Reißt euch los\, schwingt euch aufs Hobbyhorse und galoppiert in Nächte voller Ekstase\, Heartbreaks und tanzbarer Rebellion. Mit dreistimmigem Gesang\, tragenden Basslines und einer Bühnenenergie\, die zwischen Oper\, Musical und Moshpit pendelt\, haben REMOTE BONDAGE längst bewiesen\, wie man Wut tanzbar macht. Ihre Texte treffen mitten ins Chaos zwischen Liebe\, Heranwachsen und gesellschaftliche Strukturen – und bieten in Pop-Songs mit Punk-Attitüde ein rundum fesselndes Erlebnis.\n\nUnwiderstehlich flanierten die fünf Wahl-Berliner:innen bereits über jegliche Festivals (u.a. Open Flair\, Fusion oder Highfield) und ausverkaufte Bühnen ihrer Headliner:innen Tour. Im Frühjahr 2026 schreitet die Rough-Pop Band erneut auf Tour\, quer durch Deutschland (und ein Stück darüber hinaus)\, bereit\, jede Bühne in Schutt\, Glitzer und Gänsehaut zu verwandeln.
URL:https://die-trompete.de/event/remote-bondage-live/
LOCATION:Die Trompete &#8211; Bochum\, Viktoriastr. 45\, Bochum\, NRW\, 44787\, Deutschland
CATEGORIES:Konzert
ATTACH;FMTTYPE=image/jpeg:https://die-trompete.de/wp-content/uploads/2026/03/TOUR_PLAKAT_BEITRAG.jpg
END:VEVENT
BEGIN:VEVENT
DTSTART;TZID=Europe/Berlin:20260423T220000
DTEND;TZID=Europe/Berlin:20260424T040000
DTSTAMP:20260426T052506
CREATED:20241210T144506Z
LAST-MODIFIED:20260109T124725Z
UID:10002241-1776981600-1777003200@die-trompete.de
SUMMARY:Mit viel Liebe - Die Studiparty in der Trompete
DESCRIPTION:🎉 Mit viel Liebe – Die Studiparty! 🎉 \nJeden Donnerstag ab 22:00 Uhr in der legendären Trompete im Bermuda3Eck\, Bochum! 🌟 \nFreut euch auf eine unvergessliche Nacht mit den besten Hits zum Mitsingen! 🎤\nVon Indie\, Hip-Hop bis Alternative Rock – aber am Donnerstag brechen wir die Genregrenzen!\n🎧💥 Aktuelle und ältere Popsongs dürfen natürlich nicht fehlen! 🎶 \nLasst uns gemeinsam den Vize-Freitag zur Party-Nacht machen! 🌙✨ \nUnd hey – Nicht-Studis sind auch herzlich willkommen! Kommt vorbei und feiert mit uns! 🥳💃🕺 \n#Studiparty #Bochum #Trompete #Bermuda3Eck #Partytime #DonnerstagFieber
URL:https://die-trompete.de/event/mit-viel-liebe-die-studiparty-in-der-trompete-2/2026-04-23/
LOCATION:Die Trompete &#8211; Bochum\, Viktoriastr. 45\, Bochum\, NRW\, 44787\, Deutschland
CATEGORIES:Party
ATTACH;FMTTYPE=image/jpeg:https://die-trompete.de/wp-content/uploads/2024/12/website-quer-scaled.jpg
END:VEVENT
BEGIN:VEVENT
DTSTART;TZID=Europe/Berlin:20260424T230000
DTEND;TZID=Europe/Berlin:20260425T050000
DTSTAMP:20260426T052506
CREATED:20260331T115352Z
LAST-MODIFIED:20260331T115352Z
UID:10002377-1777071600-1777093200@die-trompete.de
SUMMARY:Live Forever – Indie-Classics & Brit Pop
DESCRIPTION:🎸 LIVE FOREVER: Indie-Classics & Brit Pop Party! 🎉\nTauche ein in die besten Indie-Klassiker der 80er\, 90er und 00er – plus die größten Brit-Pop Hits aller Zeiten! \n🎶 Für alle\, die Gitarrenmusik und unvergessliche Momente lieben – das ist eure Nacht! \n🎧 An den Decks: TOBI TORBA \nMit dabei: Arctic Monkeys\, Oasis\, Blur\, The Kooks\, Muse\, The Killers\, Mando Diao\, Hard-FI\, Kings of Leon\, QOTSA\, The Hives\, Kaiser Chiefs\, Interpol\, MGMT\, Beatsteaks\, The Smiths\, The Cure\, Jet\, Bloc Party\, Foals\, Stone Roses\, Madsen\, Wir sind Helden\, Vampire Weekend\, Placebo und viele mehr! 🎵 \nMarkiert eure Freunde und seid dabei – es wird legendär! ✨ \n#IndieClassics #BritPopParty #LiveForever
URL:https://die-trompete.de/event/live-forever-indie-classics-brit-pop/
LOCATION:Die Trompete &#8211; Bochum\, Viktoriastr. 45\, Bochum\, NRW\, 44787\, Deutschland
CATEGORIES:Party
ATTACH;FMTTYPE=image/webp:https://die-trompete.de/wp-content/uploads/2023/01/Live-Forever-scaled.webp
END:VEVENT
BEGIN:VEVENT
DTSTART;TZID=Europe/Berlin:20260425T190000
DTEND;TZID=Europe/Berlin:20260425T230000
DTSTAMP:20260426T052506
CREATED:20251119T114021Z
LAST-MODIFIED:20251119T114021Z
UID:10002178-1777143600-1777158000@die-trompete.de
SUMMARY:Lamp Of Murmuur\, One Of Nine - live
DESCRIPTION:Doomstar Bookings präsentiert \nLAMP OF MURMUUR\nONE OF NINE \nEinlass 19:00 Start 20:00\nTickets \nZwei außergewöhnliche Black-Metal-Projekte betreten die Bühne und versprechen eine Nacht voller düsterer Atmosphäre\, extremer Soundkunst und unvergesslicher Live-Erlebnisse: Lamp of Murmuur (USA) trifft auf One of Nine (USA) – in der Trompete Bochum.Lamp of Murmuur \nLamp of Murmuur ist das Geheimprojekt des US-Solo-Künstlers „M.“\, das seit 2019 mit unbändiger Kraft das Black Metal-Underground-Feld durchpflügt.   In jüngerer Zeit öffnet sich Lamp of Murmuur verstärkt für gothische und melodische Elemente und verwebt rohe Black-Metal-Attacken mit düsteren Synths und melancholischer Tiefe.   Die Live-Performance verspricht ein immersives Erlebnis: schiere Intensität gepaart mit ästhetischer Dunkelheit. \nOne of Nine \nOne of Nine\, ebenfalls aus den USA\, vereint melodischen Black Metal mit episch-fantastischen Themenschwerpunkten. Ihr aktuelles Werk „Dawn of the Iron Shadow“ wurde im Oktober 2025 veröffentlicht und erhielt begeisterte Kritiken für seine Synth-dichte und räumliche Klangarchitektur.   Der Band gelingt es\, Black-Metal-Brutalität mit orchestraler Weite und mittelalterlichem Flair zu kombinieren – eine ideale Ergänzung zur Vision von Lamp of Murmuur.
URL:https://die-trompete.de/event/lamp-of-murmuur-one-of-nine-live/
LOCATION:Die Trompete &#8211; Bochum\, Viktoriastr. 45\, Bochum\, NRW\, 44787\, Deutschland
CATEGORIES:Konzert
ATTACH;FMTTYPE=image/jpeg:https://die-trompete.de/wp-content/uploads/2025/11/INSTAGRAM-SQUARE-FLYER-BLANK-scaled.jpg
END:VEVENT
BEGIN:VEVENT
DTSTART;TZID=Europe/Berlin:20260425T230000
DTEND;TZID=Europe/Berlin:20260426T050000
DTSTAMP:20260426T052506
CREATED:20260331T115708Z
LAST-MODIFIED:20260331T115708Z
UID:10002378-1777158000-1777179600@die-trompete.de
SUMMARY:Sandpit Turtle – Metalcore\, Post-Hardcore\, Nu Metal\, Melodic Hardcore Party
DESCRIPTION:Sandpit Turtle \nLife’s swinging hard\, but we’re swinging harder.\nIf you know the words — scream them. \nThis! Is! Sandpit Turtle! \nMit:\nA Day To Remember\, Agnostic Front\, Alesana\, Architects\, Asking Alexandria\, Attack Attack\, Atreyu\, At the Drive-In\, Bad Omens\, Balance and Composure\, Bayside\, Beartooth\, Belmont\, Billy Talent\, Boston Manor\, Bring me the Horizon\, Callejon\, Comeback Kid\, Counterparts\, Currents\, Dance Gavin Dance\, Deez Nuts\, Disturbed\, Driveways\, Electric Callboy\, Enter Shikari\, Escape the Fate\, Fever 333\, Fit for a King\, Five Finger Death Punch\, Four Year Strong\, Funeral for a Friend\, Hawthorne Heights\, Holding Absence\, Hollywood Undead\, Ice Nine Kills\, Imminence\, Incubus\, I Prevail\, Korn\, Knocked Loose\, L.S. Dunes\, Landmvrks\, Limp Bizkit\, Linkin Park\, Machine Head\, Motionless in White\, Movements\, Northlane\, Of Mice and Men\, Parkway Drive\, Papa Roach\, Pianos become the Teeth\, Pierce the Veil\, Polaris\, Rage against the Machine\, Refused\, Rise against\, Rise of the North Star\, Samurai Pizza Cats\, Silverstein\, Sleeping with Sirens\, Slipknot\, Staind\, Story of the Year\, System of a Down\, The Amity Affliction\, The Devil wears Prada\, The Ghost Inside\, The Plot in You\, The Used\, Thousand Below\, Three Days Grace\, Thrice\, Trapt\, Turnstile\, Underoath\, We came as Romans\, While she sleeps und noch viele mehr. \nAn den Decks:\nMiss Murder\nSchorsch Klunie
URL:https://die-trompete.de/event/sandpit-turtle-metalcore-post-hardcore-nu-metal-melodic-hardcore-party-2/
LOCATION:Die Trompete &#8211; Bochum\, Viktoriastr. 45\, Bochum\, NRW\, 44787\, Deutschland
CATEGORIES:Party
ATTACH;FMTTYPE=image/jpeg:https://die-trompete.de/wp-content/uploads/2024/12/Sandpit-Turtle-2025-scaled.jpg
END:VEVENT
END:VCALENDAR