BEGIN:VCALENDAR
VERSION:2.0
PRODID:-//Die Trompete - ECPv6.15.18//NONSGML v1.0//EN
CALSCALE:GREGORIAN
METHOD:PUBLISH
X-ORIGINAL-URL:https://die-trompete.de
X-WR-CALDESC:Veranstaltungen für Die Trompete
REFRESH-INTERVAL;VALUE=DURATION:PT1H
X-Robots-Tag:noindex
X-PUBLISHED-TTL:PT1H
BEGIN:VTIMEZONE
TZID:Europe/Berlin
BEGIN:DAYLIGHT
TZOFFSETFROM:+0100
TZOFFSETTO:+0200
TZNAME:CEST
DTSTART:20250330T010000
END:DAYLIGHT
BEGIN:STANDARD
TZOFFSETFROM:+0200
TZOFFSETTO:+0100
TZNAME:CET
DTSTART:20251026T010000
END:STANDARD
BEGIN:DAYLIGHT
TZOFFSETFROM:+0100
TZOFFSETTO:+0200
TZNAME:CEST
DTSTART:20260329T010000
END:DAYLIGHT
BEGIN:STANDARD
TZOFFSETFROM:+0200
TZOFFSETTO:+0100
TZNAME:CET
DTSTART:20261025T010000
END:STANDARD
BEGIN:DAYLIGHT
TZOFFSETFROM:+0100
TZOFFSETTO:+0200
TZNAME:CEST
DTSTART:20270328T010000
END:DAYLIGHT
BEGIN:STANDARD
TZOFFSETFROM:+0200
TZOFFSETTO:+0100
TZNAME:CET
DTSTART:20271031T010000
END:STANDARD
END:VTIMEZONE
BEGIN:VEVENT
DTSTART;TZID=Europe/Berlin:20261119T190000
DTEND;TZID=Europe/Berlin:20261119T230000
DTSTAMP:20260419T194411
CREATED:20251117T105202Z
LAST-MODIFIED:20260119T163839Z
UID:10002174-1795114800-1795129200@die-trompete.de
SUMMARY:Marnele - live
DESCRIPTION:NEUES DATUM &#8211; ALLE TICKETS BEHALTEN GÜLTIGKEIT!\n\nMARNELE · Perle im Pott Tour 2026Einlass 19:00 | Beginn 20:00 UhrTickets\nPräsentiert von: ESKAPADEN | OHA! MUSIC | JUICYUNDERGROUND | RAUSGEGANGEN\n\nDie aus Bochum stammende Newcomerin macht es anders und hat sich dazu entschieden\, sich nicht entscheiden zu müssen &#8211; zwischen Punchlines und Poesie\, Reflexion und Kampfgeist\, Schwermut und Selbstermächtigung\, unmissverständlichen Ansagen und metaphorisch-verschlüsselten Botschaften. Mit der „Perle im Pott“-Tour 2026 geht MARNELE auf ihre erste eigene Headliner-Tour.\n\nMARNELE-Musik\, das ist zeitlose Dichtkunst\, die in zeitgemäßem Rapgesang Ausdruck findet; das ist ein scharfer\, nachdenklicher\, weltverschmerzter\, manchmal aber auch augenzwinkernder Blick nach Draußen und ins Selbst; das ist ein bisschen Ruhrpott und ein bisschen Paris.\n\n\nMeistens spielt MARNELE-Musik in abgedunkelten Räumen und nächtlichen Settings\, fast immer ist sie umhüllt von einer abgründig-geruhsamen Text-\, Sound- und Bild-Ästhetik. Gleichzeitig ist da &#8211; trotz aller Comfyness &#8211; immer eine unbändige Energie\, die nur selten ins Verträumte kippt; und eine vor Dringlichkeit strotzende lyrische und stimmliche Schärfe\, die surreal in ihren Bann zieht. \nWeniger anzeigen
URL:https://die-trompete.de/event/marnele-live/
LOCATION:Die Trompete &#8211; Bochum\, Viktoriastr. 45\, Bochum\, NRW\, 44787\, Deutschland
CATEGORIES:Konzert
ATTACH;FMTTYPE=image/png:https://die-trompete.de/wp-content/uploads/2025/11/PerleImPott_neueDaten_Insta-post-scaled.png
END:VEVENT
BEGIN:VEVENT
DTSTART;TZID=Europe/Berlin:20261120T220000
DTEND;TZID=Europe/Berlin:20261121T050000
DTSTAMP:20260419T194411
CREATED:20260109T131342Z
LAST-MODIFIED:20260109T131342Z
UID:10002262-1795212000-1795237200@die-trompete.de
SUMMARY:Syndicate Noir
DESCRIPTION:Syndicate Noir\nSynth-/Dark-/Cold-Wave / Post-Punk / Goth / Minimal & Underground NDW \nDie Trompete Bochum\nAb 22:00Uhr \nby DJ Thomas Darkshades\n(Shadow\, MTC\, KIR\, DarkFlower)
URL:https://die-trompete.de/event/syndicate-noir/2026-11-20/
LOCATION:Die Trompete &#8211; Bochum\, Viktoriastr. 45\, Bochum\, NRW\, 44787\, Deutschland
CATEGORIES:Party
ATTACH;FMTTYPE=image/jpeg:https://die-trompete.de/wp-content/uploads/2026/01/Unbranded_Homepage.jpg
END:VEVENT
BEGIN:VEVENT
DTSTART;TZID=Europe/Berlin:20261120T230000
DTEND;TZID=Europe/Berlin:20261121T050000
DTSTAMP:20260419T194411
CREATED:20260210T102058Z
LAST-MODIFIED:20260210T102058Z
UID:10002350-1795215600-1795237200@die-trompete.de
SUMMARY:✨ WHO RUN THE WORLD – FLINTA x FLINTA** ✨
DESCRIPTION:✨ WHO RUN THE WORLD – FLINTA x FLINTA** ✨\n| 2000s RnB & Afrobeats | Safe Space\n23:00Uhr\nDie Trompete Bochum\n \n\nWir öffnen den Dancefloor für eine Nacht voller Wärme\, Bass und Community.\nEs warten smooth 2000er RnB Hits\, Afrobeats\, vibey Energy und ein Raum\, der für FLINTA von FLINTA** geschaffen wurde.\n\n🌈 Queer-friendly. Empowernd. Sensibel.\n💃🏾 Feel the rhythm. Own the space.\n🔥 Come as you are – stay as you feel.\n\nParty\, Power – ein Abend für uns.\nWir sehen uns dort. ✨
URL:https://die-trompete.de/event/%e2%9c%a8-who-run-the-world-flinta-x-flinta-%e2%9c%a8-2/2026-11-20/
LOCATION:Die Trompete &#8211; Bochum\, Viktoriastr. 45\, Bochum\, NRW\, 44787\, Deutschland
CATEGORIES:Party
END:VEVENT
BEGIN:VEVENT
DTSTART;TZID=Europe/Berlin:20261121T230000
DTEND;TZID=Europe/Berlin:20261122T050000
DTSTAMP:20260419T194411
CREATED:20260310T102333Z
LAST-MODIFIED:20260310T102333Z
UID:10002362-1795302000-1795323600@die-trompete.de
SUMMARY:A Night To Remember // Pop Punk
DESCRIPTION:A NIGHT TO REMEMBER \n\n\nDEFEND POP PUNK! \nMit dabei:\nA Day To Remember\, Against the Current\, Alkaline Trio\, Alles feat. Travis Barker\, All Time Low\, American Hi-Fi\, As December falls\, As it is\, Avril Lavigne\, Bayside\, Bearings\, Between You and Me\, Blink-182\, Boys like Girls\, Brand New\, Broadside\, Cobra Starship\, Cute Is What We Aim For\, De’Wayne\, Dreamers\, Fall Out Boy\, Flash Forward\, Four Year Strong\, girlfriends\, Good Charlotte\, Green Day\, Heroes For Hire\, jxdn\, Kenny Hoopla\, Knuckle Puck\, LØLØ\, Machine Gun Kelly\, Magnolia Park\, Man Overboard\, Mayday Parade\, Meet me @ the Altar\, Metro Station\, Mest\, MOD SUN\, My Chemical Romance\, Neck Deep\, New Found Glory\, Pale Waves\, Panic! At The Disco\, Paramore\, Point North\, Real Friends\, Rise Against\, ROAM\, Set it off\, Simple Plan\, Stand Atlantic\, State Champs\, Story Of The Year\, Sueco\, Sum 41\, Taking Back Sunday\, The Academy Is\, The Audition\, The Menzingers\, The Offspring\, The Summer Set\, The Used\, The Story So Far\, The Wonder Years\, Trophy Eyes\, Waterparks\, Willow\, With Confidence\, WSTR\, Yellowcard\, Youth Fountain\, Yungblud\, Zebrahead und noch viele mehr. \nAn den Decks:\nMiss Murder\nSchorsch Klunie \n
URL:https://die-trompete.de/event/a-night-to-remember-pop-punk-4-3/2026-11-21/
LOCATION:Die Trompete &#8211; Bochum\, Viktoriastr. 45\, Bochum\, NRW\, 44787\, Deutschland
CATEGORIES:Party
ATTACH;FMTTYPE=image/webp:https://die-trompete.de/wp-content/uploads/2022/09/A-Night-To-Remember-Homepage.webp
END:VEVENT
END:VCALENDAR