BEGIN:VCALENDAR
VERSION:2.0
PRODID:-//Die Trompete - ECPv6.15.18//NONSGML v1.0//EN
CALSCALE:GREGORIAN
METHOD:PUBLISH
X-WR-CALNAME:Die Trompete
X-ORIGINAL-URL:https://die-trompete.de
X-WR-CALDESC:Veranstaltungen für Die Trompete
REFRESH-INTERVAL;VALUE=DURATION:PT1H
X-Robots-Tag:noindex
X-PUBLISHED-TTL:PT1H
BEGIN:VTIMEZONE
TZID:Europe/Berlin
BEGIN:DAYLIGHT
TZOFFSETFROM:+0100
TZOFFSETTO:+0200
TZNAME:CEST
DTSTART:20240331T010000
END:DAYLIGHT
BEGIN:STANDARD
TZOFFSETFROM:+0200
TZOFFSETTO:+0100
TZNAME:CET
DTSTART:20241027T010000
END:STANDARD
BEGIN:DAYLIGHT
TZOFFSETFROM:+0100
TZOFFSETTO:+0200
TZNAME:CEST
DTSTART:20250330T010000
END:DAYLIGHT
BEGIN:STANDARD
TZOFFSETFROM:+0200
TZOFFSETTO:+0100
TZNAME:CET
DTSTART:20251026T010000
END:STANDARD
BEGIN:DAYLIGHT
TZOFFSETFROM:+0100
TZOFFSETTO:+0200
TZNAME:CEST
DTSTART:20260329T010000
END:DAYLIGHT
BEGIN:STANDARD
TZOFFSETFROM:+0200
TZOFFSETTO:+0100
TZNAME:CET
DTSTART:20261025T010000
END:STANDARD
BEGIN:DAYLIGHT
TZOFFSETFROM:+0100
TZOFFSETTO:+0200
TZNAME:CEST
DTSTART:20270328T010000
END:DAYLIGHT
BEGIN:STANDARD
TZOFFSETFROM:+0200
TZOFFSETTO:+0100
TZNAME:CET
DTSTART:20271031T010000
END:STANDARD
END:VTIMEZONE
BEGIN:VEVENT
DTSTART;TZID=Europe/Berlin:20260404T230000
DTEND;TZID=Europe/Berlin:20260405T050000
DTSTAMP:20260423T023515
CREATED:20241210T150156Z
LAST-MODIFIED:20260109T123316Z
UID:10002215-1775343600-1775365200@die-trompete.de
SUMMARY:Goldene Zeiten - Oldschool Hip Hop * Deutschrap Classics * Funk * 90s-Dancehall
DESCRIPTION:Goldene Zeiten\nJust classic Hip Hop!\nOldschool Hip Hop * Deutschrap Classics * Funk * 90s-Dancehall\nAn den Rädern aus Stahl\nKURTIS FLOW & Friends\n\nIhr habt Bock auf straighten Hip Hop?\nGoldene Zeiten bringt euch den Flavour des Golden Age Hip Hop in Bochums liebstes „Wohnzimmer“\, die Trompete. Abseits vom Bling Bling Gedöns\, aber auch ohne erhobenen „keep it real“ Zeigefinger.\n\nKlingt wie..\nMissy Eliot * Marteria * SSIO * Lauryn Hill * Snoop Dog * Sido * Biggie Smalls * Eminem * Beginner * Busta Rhymes * Shacke One * Kendrick Lamar * Megaloh * Chronixx * Creutzfeld & Jakob * Umse * Dr. Dre * Fugees * DJ Premier * Samy Deluxe * A Tribe Called Quest * Too Strong * Dendemann * Sean Paul * RAG * Kool Savas * Deichkind * De La Soul * Retrogott * Method Man * Redman * Jackson 5 * Haze * Stieber Twins * James Brown * Karate Andi * Afrob * Lakmann * OG Keemo * Wu-Tang Clan * Busy Signal * Rin * Kanye West *
URL:https://die-trompete.de/event/goldene-zeiten-oldschool-hip-hop-deutschrap-classics-funk-90s-dancehall/2026-04-04/
LOCATION:Die Trompete &#8211; Bochum\, Viktoriastr. 45\, Bochum\, NRW\, 44787\, Deutschland
CATEGORIES:Party
ATTACH;FMTTYPE=image/jpeg:https://die-trompete.de/wp-content/uploads/2022/05/279292706_5247652718588496_2853070244766300873_n.jpg
END:VEVENT
BEGIN:VEVENT
DTSTART;TZID=Europe/Berlin:20260307T230000
DTEND;TZID=Europe/Berlin:20260308T050000
DTSTAMP:20260423T023515
CREATED:20241210T150156Z
LAST-MODIFIED:20260109T123316Z
UID:10002214-1772924400-1772946000@die-trompete.de
SUMMARY:Goldene Zeiten - Oldschool Hip Hop * Deutschrap Classics * Funk * 90s-Dancehall
DESCRIPTION:Goldene Zeiten\nJust classic Hip Hop!\nOldschool Hip Hop * Deutschrap Classics * Funk * 90s-Dancehall\nAn den Rädern aus Stahl\nKURTIS FLOW & Friends\n\nIhr habt Bock auf straighten Hip Hop?\nGoldene Zeiten bringt euch den Flavour des Golden Age Hip Hop in Bochums liebstes „Wohnzimmer“\, die Trompete. Abseits vom Bling Bling Gedöns\, aber auch ohne erhobenen „keep it real“ Zeigefinger.\n\nKlingt wie..\nMissy Eliot * Marteria * SSIO * Lauryn Hill * Snoop Dog * Sido * Biggie Smalls * Eminem * Beginner * Busta Rhymes * Shacke One * Kendrick Lamar * Megaloh * Chronixx * Creutzfeld & Jakob * Umse * Dr. Dre * Fugees * DJ Premier * Samy Deluxe * A Tribe Called Quest * Too Strong * Dendemann * Sean Paul * RAG * Kool Savas * Deichkind * De La Soul * Retrogott * Method Man * Redman * Jackson 5 * Haze * Stieber Twins * James Brown * Karate Andi * Afrob * Lakmann * OG Keemo * Wu-Tang Clan * Busy Signal * Rin * Kanye West *
URL:https://die-trompete.de/event/goldene-zeiten-oldschool-hip-hop-deutschrap-classics-funk-90s-dancehall/2026-03-07/
LOCATION:Die Trompete &#8211; Bochum\, Viktoriastr. 45\, Bochum\, NRW\, 44787\, Deutschland
CATEGORIES:Party
ATTACH;FMTTYPE=image/jpeg:https://die-trompete.de/wp-content/uploads/2022/05/279292706_5247652718588496_2853070244766300873_n.jpg
END:VEVENT
BEGIN:VEVENT
DTSTART;TZID=Europe/Berlin:20260207T230000
DTEND;TZID=Europe/Berlin:20260208T050000
DTSTAMP:20260423T023515
CREATED:20241210T150156Z
LAST-MODIFIED:20260109T123316Z
UID:10002213-1770505200-1770526800@die-trompete.de
SUMMARY:Goldene Zeiten - Oldschool Hip Hop * Deutschrap Classics * Funk * 90s-Dancehall
DESCRIPTION:Goldene Zeiten\nJust classic Hip Hop!\nOldschool Hip Hop * Deutschrap Classics * Funk * 90s-Dancehall\nAn den Rädern aus Stahl\nKURTIS FLOW & Friends\n\nIhr habt Bock auf straighten Hip Hop?\nGoldene Zeiten bringt euch den Flavour des Golden Age Hip Hop in Bochums liebstes „Wohnzimmer“\, die Trompete. Abseits vom Bling Bling Gedöns\, aber auch ohne erhobenen „keep it real“ Zeigefinger.\n\nKlingt wie..\nMissy Eliot * Marteria * SSIO * Lauryn Hill * Snoop Dog * Sido * Biggie Smalls * Eminem * Beginner * Busta Rhymes * Shacke One * Kendrick Lamar * Megaloh * Chronixx * Creutzfeld & Jakob * Umse * Dr. Dre * Fugees * DJ Premier * Samy Deluxe * A Tribe Called Quest * Too Strong * Dendemann * Sean Paul * RAG * Kool Savas * Deichkind * De La Soul * Retrogott * Method Man * Redman * Jackson 5 * Haze * Stieber Twins * James Brown * Karate Andi * Afrob * Lakmann * OG Keemo * Wu-Tang Clan * Busy Signal * Rin * Kanye West *
URL:https://die-trompete.de/event/goldene-zeiten-oldschool-hip-hop-deutschrap-classics-funk-90s-dancehall/2026-02-07/
LOCATION:Die Trompete &#8211; Bochum\, Viktoriastr. 45\, Bochum\, NRW\, 44787\, Deutschland
CATEGORIES:Party
ATTACH;FMTTYPE=image/jpeg:https://die-trompete.de/wp-content/uploads/2022/05/279292706_5247652718588496_2853070244766300873_n.jpg
END:VEVENT
BEGIN:VEVENT
DTSTART;TZID=Europe/Berlin:20260103T230000
DTEND;TZID=Europe/Berlin:20260104T050000
DTSTAMP:20260423T023515
CREATED:20241210T150156Z
LAST-MODIFIED:20260109T123316Z
UID:10002212-1767481200-1767502800@die-trompete.de
SUMMARY:Goldene Zeiten - Oldschool Hip Hop * Deutschrap Classics * Funk * 90s-Dancehall
DESCRIPTION:Goldene Zeiten\nJust classic Hip Hop!\nOldschool Hip Hop * Deutschrap Classics * Funk * 90s-Dancehall\nAn den Rädern aus Stahl\nKURTIS FLOW & Friends\n\nIhr habt Bock auf straighten Hip Hop?\nGoldene Zeiten bringt euch den Flavour des Golden Age Hip Hop in Bochums liebstes „Wohnzimmer“\, die Trompete. Abseits vom Bling Bling Gedöns\, aber auch ohne erhobenen „keep it real“ Zeigefinger.\n\nKlingt wie..\nMissy Eliot * Marteria * SSIO * Lauryn Hill * Snoop Dog * Sido * Biggie Smalls * Eminem * Beginner * Busta Rhymes * Shacke One * Kendrick Lamar * Megaloh * Chronixx * Creutzfeld & Jakob * Umse * Dr. Dre * Fugees * DJ Premier * Samy Deluxe * A Tribe Called Quest * Too Strong * Dendemann * Sean Paul * RAG * Kool Savas * Deichkind * De La Soul * Retrogott * Method Man * Redman * Jackson 5 * Haze * Stieber Twins * James Brown * Karate Andi * Afrob * Lakmann * OG Keemo * Wu-Tang Clan * Busy Signal * Rin * Kanye West *
URL:https://die-trompete.de/event/goldene-zeiten-oldschool-hip-hop-deutschrap-classics-funk-90s-dancehall/2026-01-03/
LOCATION:Die Trompete &#8211; Bochum\, Viktoriastr. 45\, Bochum\, NRW\, 44787\, Deutschland
CATEGORIES:Party
ATTACH;FMTTYPE=image/jpeg:https://die-trompete.de/wp-content/uploads/2022/05/279292706_5247652718588496_2853070244766300873_n.jpg
END:VEVENT
BEGIN:VEVENT
DTSTART;TZID=Europe/Berlin:20251226T230000
DTEND;TZID=Europe/Berlin:20251227T050000
DTSTAMP:20260423T023515
CREATED:20251202T142551Z
LAST-MODIFIED:20251202T142625Z
UID:10002183-1766790000-1766811600@die-trompete.de
SUMMARY:INTO THE NIGHT // HOTTEST DANCE PARTY
DESCRIPTION:INTO THE NIGHT\n26.12.2025\n23:00Uhr \nGlobal Pop\, Rare Grooves\, Funk\, Boogie und housiger Sound aus aller Welt erklingen\, wenn Michael Peif seine Plattenkiste packt.\nSeine persönliche Mission ist es mit energiegeladenen Sounds zum tanzen zu animieren\, gute Laune zu verbreiten und die Böden der Clubs\, Bars oder Tanzcafes zum beben zu bringen.\nWenn die Plattenspieler sich drehen und die Nadel auf das Vinyl trifft geht PEIF mit euch auf eine musikalische Weltreise ob Brasilien\, Ghana\, Italien\, Spanien oder Südkorea\, der ein oder andere &#8222;Banger&#8220; wird die Tanzfläche zu einem unvergesslichen Ort machen\, versprochen! \nFunk\, Boogie\, Rare Grooves\, House Vibes & World Music!\nWir heben ab Richtung Funkuniversum. Kommt vorbei zieht eure Tanschuhe an und lasst uns gemeinsam eine wilde &#8222;IntoTheNight&#8220; im Club feiern!
URL:https://die-trompete.de/event/into-the-night-hottest-dance-party-2/
LOCATION:Die Trompete &#8211; Bochum\, Viktoriastr. 45\, Bochum\, NRW\, 44787\, Deutschland
CATEGORIES:Party
ATTACH;FMTTYPE=image/jpeg:https://die-trompete.de/wp-content/uploads/2025/12/Into_The_Night_12_2025.jpeg
END:VEVENT
BEGIN:VEVENT
DTSTART;TZID=Europe/Berlin:20251206T230000
DTEND;TZID=Europe/Berlin:20251207T050000
DTSTAMP:20260423T023515
CREATED:20241210T150156Z
LAST-MODIFIED:20260109T123316Z
UID:10002114-1765062000-1765083600@die-trompete.de
SUMMARY:Goldene Zeiten - Oldschool Hip Hop * Deutschrap Classics * Funk * 90s-Dancehall
DESCRIPTION:Goldene Zeiten\nJust classic Hip Hop!\nOldschool Hip Hop * Deutschrap Classics * Funk * 90s-Dancehall\nAn den Rädern aus Stahl\nKURTIS FLOW & Friends\n\nIhr habt Bock auf straighten Hip Hop?\nGoldene Zeiten bringt euch den Flavour des Golden Age Hip Hop in Bochums liebstes „Wohnzimmer“\, die Trompete. Abseits vom Bling Bling Gedöns\, aber auch ohne erhobenen „keep it real“ Zeigefinger.\n\nKlingt wie..\nMissy Eliot * Marteria * SSIO * Lauryn Hill * Snoop Dog * Sido * Biggie Smalls * Eminem * Beginner * Busta Rhymes * Shacke One * Kendrick Lamar * Megaloh * Chronixx * Creutzfeld & Jakob * Umse * Dr. Dre * Fugees * DJ Premier * Samy Deluxe * A Tribe Called Quest * Too Strong * Dendemann * Sean Paul * RAG * Kool Savas * Deichkind * De La Soul * Retrogott * Method Man * Redman * Jackson 5 * Haze * Stieber Twins * James Brown * Karate Andi * Afrob * Lakmann * OG Keemo * Wu-Tang Clan * Busy Signal * Rin * Kanye West *
URL:https://die-trompete.de/event/goldene-zeiten-oldschool-hip-hop-deutschrap-classics-funk-90s-dancehall/2025-12-06/
LOCATION:Die Trompete &#8211; Bochum\, Viktoriastr. 45\, Bochum\, NRW\, 44787\, Deutschland
CATEGORIES:Party
ATTACH;FMTTYPE=image/jpeg:https://die-trompete.de/wp-content/uploads/2022/05/279292706_5247652718588496_2853070244766300873_n.jpg
END:VEVENT
BEGIN:VEVENT
DTSTART;TZID=Europe/Berlin:20251101T230000
DTEND;TZID=Europe/Berlin:20251102T050000
DTSTAMP:20260423T023515
CREATED:20241210T150156Z
LAST-MODIFIED:20260109T123316Z
UID:10002113-1762038000-1762059600@die-trompete.de
SUMMARY:Goldene Zeiten - Oldschool Hip Hop * Deutschrap Classics * Funk * 90s-Dancehall
DESCRIPTION:Goldene Zeiten\nJust classic Hip Hop!\nOldschool Hip Hop * Deutschrap Classics * Funk * 90s-Dancehall\nAn den Rädern aus Stahl\nKURTIS FLOW & Friends\n\nIhr habt Bock auf straighten Hip Hop?\nGoldene Zeiten bringt euch den Flavour des Golden Age Hip Hop in Bochums liebstes „Wohnzimmer“\, die Trompete. Abseits vom Bling Bling Gedöns\, aber auch ohne erhobenen „keep it real“ Zeigefinger.\n\nKlingt wie..\nMissy Eliot * Marteria * SSIO * Lauryn Hill * Snoop Dog * Sido * Biggie Smalls * Eminem * Beginner * Busta Rhymes * Shacke One * Kendrick Lamar * Megaloh * Chronixx * Creutzfeld & Jakob * Umse * Dr. Dre * Fugees * DJ Premier * Samy Deluxe * A Tribe Called Quest * Too Strong * Dendemann * Sean Paul * RAG * Kool Savas * Deichkind * De La Soul * Retrogott * Method Man * Redman * Jackson 5 * Haze * Stieber Twins * James Brown * Karate Andi * Afrob * Lakmann * OG Keemo * Wu-Tang Clan * Busy Signal * Rin * Kanye West *
URL:https://die-trompete.de/event/goldene-zeiten-oldschool-hip-hop-deutschrap-classics-funk-90s-dancehall/2025-11-01/
LOCATION:Die Trompete &#8211; Bochum\, Viktoriastr. 45\, Bochum\, NRW\, 44787\, Deutschland
CATEGORIES:Party
ATTACH;FMTTYPE=image/jpeg:https://die-trompete.de/wp-content/uploads/2022/05/279292706_5247652718588496_2853070244766300873_n.jpg
END:VEVENT
BEGIN:VEVENT
DTSTART;TZID=Europe/Berlin:20251101T190000
DTEND;TZID=Europe/Berlin:20251101T230000
DTSTAMP:20260423T023515
CREATED:20250924T171206Z
LAST-MODIFIED:20250924T171206Z
UID:10002154-1762023600-1762038000@die-trompete.de
SUMMARY:Lakmann One - live
DESCRIPTION:LAKMANN ONE lädt euch ein zu seinem Albumrelease Jam &#8222;Der Beste Tag Meines Labels&#8220;! \nFreut euch auf eine wahnsinns Liveshow von Lakmann One und vielen großartigen Gästen.\n\n• LAKMANN ONE\n• Support tba\n• Kurtis Flow\n• uvm.\n\nAnschließend feiern wir alle gemeinsam die Goldene Zeiten Aftershowparty! Absoluter Pflichttermin für alle Hip Hop Fans und ein mega nices Familientreffen. Goldene Zeiten bringt euch den Flavour des Golden Age Hip Hop in Bochums liebsten Wohnzimmerclub\, Die Trompete\, direkt am Bermuda3eck.\n\nSichert euch lieber schnell ein Ticket für die Show im VVK oder kommt ab 23 Uhr direkt durch die Abendkasse zur brachialen Aftershowparty.\n\n• • • • • • • • • • • • • • • • • • • • • •\n\n• Tickets hier\n• Doors 19 Uhr\n• Aftershow 23:00 Uhr Klingt wie&#8230;\n\nMissy Elliott • Marteria • SSIO • Lauryn Hill • Snoop Dogg • Sido • Biggie Smalls • Eminem • Beginner • Busta Rhymes • Shacke One • Kendrick Lamar • Megaloh • Beenie Man • Creutzfeld & Jakob • Umse • Dr. Dre • Fugees • DJ Premier • Samy Deluxe • A Tribe Called Quest • Too Strong • Dendemann • Sean Paul • RAG • Kool Savas • Deichkind • De La Soul • Retrogott • Method Man • Redman • Jackson 5 • Jay Z • Haze • Stieber Twins • James Brown • Karate Andi • Afrob • Lakmann • OG Keemo • Wu-Tang Clan • Mr. Vegas • Bunkerwelt • Kanye West • Shabba •
URL:https://die-trompete.de/event/lakmann-one-live/
LOCATION:Die Trompete &#8211; Bochum\, Viktoriastr. 45\, Bochum\, NRW\, 44787\, Deutschland
CATEGORIES:Konzert
ATTACH;FMTTYPE=image/jpeg:https://die-trompete.de/wp-content/uploads/2025/09/image0.jpeg
END:VEVENT
BEGIN:VEVENT
DTSTART;TZID=Europe/Berlin:20251004T230000
DTEND;TZID=Europe/Berlin:20251005T050000
DTSTAMP:20260423T023515
CREATED:20241210T150156Z
LAST-MODIFIED:20260109T123316Z
UID:10002112-1759618800-1759640400@die-trompete.de
SUMMARY:Goldene Zeiten - Oldschool Hip Hop * Deutschrap Classics * Funk * 90s-Dancehall
DESCRIPTION:Goldene Zeiten\nJust classic Hip Hop!\nOldschool Hip Hop * Deutschrap Classics * Funk * 90s-Dancehall\nAn den Rädern aus Stahl\nKURTIS FLOW & Friends\n\nIhr habt Bock auf straighten Hip Hop?\nGoldene Zeiten bringt euch den Flavour des Golden Age Hip Hop in Bochums liebstes „Wohnzimmer“\, die Trompete. Abseits vom Bling Bling Gedöns\, aber auch ohne erhobenen „keep it real“ Zeigefinger.\n\nKlingt wie..\nMissy Eliot * Marteria * SSIO * Lauryn Hill * Snoop Dog * Sido * Biggie Smalls * Eminem * Beginner * Busta Rhymes * Shacke One * Kendrick Lamar * Megaloh * Chronixx * Creutzfeld & Jakob * Umse * Dr. Dre * Fugees * DJ Premier * Samy Deluxe * A Tribe Called Quest * Too Strong * Dendemann * Sean Paul * RAG * Kool Savas * Deichkind * De La Soul * Retrogott * Method Man * Redman * Jackson 5 * Haze * Stieber Twins * James Brown * Karate Andi * Afrob * Lakmann * OG Keemo * Wu-Tang Clan * Busy Signal * Rin * Kanye West *
URL:https://die-trompete.de/event/goldene-zeiten-oldschool-hip-hop-deutschrap-classics-funk-90s-dancehall/2025-10-04/
LOCATION:Die Trompete &#8211; Bochum\, Viktoriastr. 45\, Bochum\, NRW\, 44787\, Deutschland
CATEGORIES:Party
ATTACH;FMTTYPE=image/jpeg:https://die-trompete.de/wp-content/uploads/2022/05/279292706_5247652718588496_2853070244766300873_n.jpg
END:VEVENT
BEGIN:VEVENT
DTSTART;TZID=Europe/Berlin:20250906T230000
DTEND;TZID=Europe/Berlin:20250907T050000
DTSTAMP:20260423T023515
CREATED:20241210T150156Z
LAST-MODIFIED:20260109T123316Z
UID:10002111-1757199600-1757221200@die-trompete.de
SUMMARY:Goldene Zeiten - Oldschool Hip Hop * Deutschrap Classics * Funk * 90s-Dancehall
DESCRIPTION:Goldene Zeiten\nJust classic Hip Hop!\nOldschool Hip Hop * Deutschrap Classics * Funk * 90s-Dancehall\nAn den Rädern aus Stahl\nKURTIS FLOW & Friends\n\nIhr habt Bock auf straighten Hip Hop?\nGoldene Zeiten bringt euch den Flavour des Golden Age Hip Hop in Bochums liebstes „Wohnzimmer“\, die Trompete. Abseits vom Bling Bling Gedöns\, aber auch ohne erhobenen „keep it real“ Zeigefinger.\n\nKlingt wie..\nMissy Eliot * Marteria * SSIO * Lauryn Hill * Snoop Dog * Sido * Biggie Smalls * Eminem * Beginner * Busta Rhymes * Shacke One * Kendrick Lamar * Megaloh * Chronixx * Creutzfeld & Jakob * Umse * Dr. Dre * Fugees * DJ Premier * Samy Deluxe * A Tribe Called Quest * Too Strong * Dendemann * Sean Paul * RAG * Kool Savas * Deichkind * De La Soul * Retrogott * Method Man * Redman * Jackson 5 * Haze * Stieber Twins * James Brown * Karate Andi * Afrob * Lakmann * OG Keemo * Wu-Tang Clan * Busy Signal * Rin * Kanye West *
URL:https://die-trompete.de/event/goldene-zeiten-oldschool-hip-hop-deutschrap-classics-funk-90s-dancehall/2025-09-06/
LOCATION:Die Trompete &#8211; Bochum\, Viktoriastr. 45\, Bochum\, NRW\, 44787\, Deutschland
CATEGORIES:Party
ATTACH;FMTTYPE=image/jpeg:https://die-trompete.de/wp-content/uploads/2022/05/279292706_5247652718588496_2853070244766300873_n.jpg
END:VEVENT
BEGIN:VEVENT
DTSTART;TZID=Europe/Berlin:20250830T230000
DTEND;TZID=Europe/Berlin:20250831T050000
DTSTAMP:20260423T023515
CREATED:20250213T135928Z
LAST-MODIFIED:20250804T103600Z
UID:10001970-1756594800-1756616400@die-trompete.de
SUMMARY:Fresh From Yard • Dancehall • Reggae • Afrobeats • Hip Hop
DESCRIPTION:Fresh From Yard\n\nDancehall • Reggae • Afrobeats\n\nNuff Sounds with full crew and MC in heavy rotation:\n• I-Motion (Ruffie w/ Mark)• IrieFire (Welcome 2 Jamrock)\n\nWir catchen den Vibe von Kingston bis zu den Hills und von London bis Johannesburg. Von Jamaican Rootsreggae über Dancehall-Classics bis zu den aktuellen Dancehall Hits & Afrobeats Bangern aus den Metropolen dieser Welt gibt’s hier den Sound\, der euch den Atem raubt und euch gleichzeitig zum Strahlen bringt: Karibische & afrikanische Musik inna original Soundsystem Style!\nDie Reise geht von Beres bis Beenie\, von Kartel bis Skillibeng\, von Protoje bis Chronixx und von Wizkid bis Burna Boy.\n\n\nStrictly nice music 4 nice people!
URL:https://die-trompete.de/event/fresh-from-yard-%f0%9f%87%af%f0%9f%87%b2%f0%9f%87%af%f0%9f%87%b2%f0%9f%87%af%f0%9f%87%b2-dancehall-reggae-afrobeats-hip-hop-3/
LOCATION:Die Trompete &#8211; Bochum\, Viktoriastr. 45\, Bochum\, NRW\, 44787\, Deutschland
CATEGORIES:Party
ATTACH;FMTTYPE=image/png:https://die-trompete.de/wp-content/uploads/2025/02/Fresh-from-Yard.png
END:VEVENT
BEGIN:VEVENT
DTSTART;TZID=Europe/Berlin:20250705T230000
DTEND;TZID=Europe/Berlin:20250706T050000
DTSTAMP:20260423T023515
CREATED:20241210T150156Z
LAST-MODIFIED:20260109T123316Z
UID:10001881-1751756400-1751778000@die-trompete.de
SUMMARY:Goldene Zeiten - Oldschool Hip Hop * Deutschrap Classics * Funk * 90s-Dancehall
DESCRIPTION:Goldene Zeiten\nJust classic Hip Hop!\nOldschool Hip Hop * Deutschrap Classics * Funk * 90s-Dancehall\nAn den Rädern aus Stahl\nKURTIS FLOW & Friends\n\nIhr habt Bock auf straighten Hip Hop?\nGoldene Zeiten bringt euch den Flavour des Golden Age Hip Hop in Bochums liebstes „Wohnzimmer“\, die Trompete. Abseits vom Bling Bling Gedöns\, aber auch ohne erhobenen „keep it real“ Zeigefinger.\n\nKlingt wie..\nMissy Eliot * Marteria * SSIO * Lauryn Hill * Snoop Dog * Sido * Biggie Smalls * Eminem * Beginner * Busta Rhymes * Shacke One * Kendrick Lamar * Megaloh * Chronixx * Creutzfeld & Jakob * Umse * Dr. Dre * Fugees * DJ Premier * Samy Deluxe * A Tribe Called Quest * Too Strong * Dendemann * Sean Paul * RAG * Kool Savas * Deichkind * De La Soul * Retrogott * Method Man * Redman * Jackson 5 * Haze * Stieber Twins * James Brown * Karate Andi * Afrob * Lakmann * OG Keemo * Wu-Tang Clan * Busy Signal * Rin * Kanye West *
URL:https://die-trompete.de/event/goldene-zeiten-oldschool-hip-hop-deutschrap-classics-funk-90s-dancehall/2025-07-05/
LOCATION:Die Trompete &#8211; Bochum\, Viktoriastr. 45\, Bochum\, NRW\, 44787\, Deutschland
CATEGORIES:Party
ATTACH;FMTTYPE=image/jpeg:https://die-trompete.de/wp-content/uploads/2022/05/279292706_5247652718588496_2853070244766300873_n.jpg
END:VEVENT
BEGIN:VEVENT
DTSTART;TZID=Europe/Berlin:20250607T230000
DTEND;TZID=Europe/Berlin:20250608T050000
DTSTAMP:20260423T023515
CREATED:20241210T150156Z
LAST-MODIFIED:20260109T123316Z
UID:10001880-1749337200-1749358800@die-trompete.de
SUMMARY:Goldene Zeiten - Oldschool Hip Hop * Deutschrap Classics * Funk * 90s-Dancehall
DESCRIPTION:Goldene Zeiten\nJust classic Hip Hop!\nOldschool Hip Hop * Deutschrap Classics * Funk * 90s-Dancehall\nAn den Rädern aus Stahl\nKURTIS FLOW & Friends\n\nIhr habt Bock auf straighten Hip Hop?\nGoldene Zeiten bringt euch den Flavour des Golden Age Hip Hop in Bochums liebstes „Wohnzimmer“\, die Trompete. Abseits vom Bling Bling Gedöns\, aber auch ohne erhobenen „keep it real“ Zeigefinger.\n\nKlingt wie..\nMissy Eliot * Marteria * SSIO * Lauryn Hill * Snoop Dog * Sido * Biggie Smalls * Eminem * Beginner * Busta Rhymes * Shacke One * Kendrick Lamar * Megaloh * Chronixx * Creutzfeld & Jakob * Umse * Dr. Dre * Fugees * DJ Premier * Samy Deluxe * A Tribe Called Quest * Too Strong * Dendemann * Sean Paul * RAG * Kool Savas * Deichkind * De La Soul * Retrogott * Method Man * Redman * Jackson 5 * Haze * Stieber Twins * James Brown * Karate Andi * Afrob * Lakmann * OG Keemo * Wu-Tang Clan * Busy Signal * Rin * Kanye West *
URL:https://die-trompete.de/event/goldene-zeiten-oldschool-hip-hop-deutschrap-classics-funk-90s-dancehall/2025-06-07/
LOCATION:Die Trompete &#8211; Bochum\, Viktoriastr. 45\, Bochum\, NRW\, 44787\, Deutschland
CATEGORIES:Party
ATTACH;FMTTYPE=image/jpeg:https://die-trompete.de/wp-content/uploads/2022/05/279292706_5247652718588496_2853070244766300873_n.jpg
END:VEVENT
BEGIN:VEVENT
DTSTART;TZID=Europe/Berlin:20250503T230000
DTEND;TZID=Europe/Berlin:20250504T050000
DTSTAMP:20260423T023515
CREATED:20241210T150156Z
LAST-MODIFIED:20260109T123316Z
UID:10001879-1746313200-1746334800@die-trompete.de
SUMMARY:Goldene Zeiten - Oldschool Hip Hop * Deutschrap Classics * Funk * 90s-Dancehall
DESCRIPTION:Goldene Zeiten\nJust classic Hip Hop!\nOldschool Hip Hop * Deutschrap Classics * Funk * 90s-Dancehall\nAn den Rädern aus Stahl\nKURTIS FLOW & Friends\n\nIhr habt Bock auf straighten Hip Hop?\nGoldene Zeiten bringt euch den Flavour des Golden Age Hip Hop in Bochums liebstes „Wohnzimmer“\, die Trompete. Abseits vom Bling Bling Gedöns\, aber auch ohne erhobenen „keep it real“ Zeigefinger.\n\nKlingt wie..\nMissy Eliot * Marteria * SSIO * Lauryn Hill * Snoop Dog * Sido * Biggie Smalls * Eminem * Beginner * Busta Rhymes * Shacke One * Kendrick Lamar * Megaloh * Chronixx * Creutzfeld & Jakob * Umse * Dr. Dre * Fugees * DJ Premier * Samy Deluxe * A Tribe Called Quest * Too Strong * Dendemann * Sean Paul * RAG * Kool Savas * Deichkind * De La Soul * Retrogott * Method Man * Redman * Jackson 5 * Haze * Stieber Twins * James Brown * Karate Andi * Afrob * Lakmann * OG Keemo * Wu-Tang Clan * Busy Signal * Rin * Kanye West *
URL:https://die-trompete.de/event/goldene-zeiten-oldschool-hip-hop-deutschrap-classics-funk-90s-dancehall/2025-05-03/
LOCATION:Die Trompete &#8211; Bochum\, Viktoriastr. 45\, Bochum\, NRW\, 44787\, Deutschland
CATEGORIES:Party
ATTACH;FMTTYPE=image/jpeg:https://die-trompete.de/wp-content/uploads/2022/05/279292706_5247652718588496_2853070244766300873_n.jpg
END:VEVENT
END:VCALENDAR