BEGIN:VCALENDAR
VERSION:2.0
PRODID:-//Die Trompete - ECPv6.15.18//NONSGML v1.0//EN
CALSCALE:GREGORIAN
METHOD:PUBLISH
X-ORIGINAL-URL:https://die-trompete.de
X-WR-CALDESC:Veranstaltungen für Die Trompete
REFRESH-INTERVAL;VALUE=DURATION:PT1H
X-Robots-Tag:noindex
X-PUBLISHED-TTL:PT1H
BEGIN:VTIMEZONE
TZID:Europe/Berlin
BEGIN:DAYLIGHT
TZOFFSETFROM:+0100
TZOFFSETTO:+0200
TZNAME:CEST
DTSTART:20250330T010000
END:DAYLIGHT
BEGIN:STANDARD
TZOFFSETFROM:+0200
TZOFFSETTO:+0100
TZNAME:CET
DTSTART:20251026T010000
END:STANDARD
BEGIN:DAYLIGHT
TZOFFSETFROM:+0100
TZOFFSETTO:+0200
TZNAME:CEST
DTSTART:20260329T010000
END:DAYLIGHT
BEGIN:STANDARD
TZOFFSETFROM:+0200
TZOFFSETTO:+0100
TZNAME:CET
DTSTART:20261025T010000
END:STANDARD
BEGIN:DAYLIGHT
TZOFFSETFROM:+0100
TZOFFSETTO:+0200
TZNAME:CEST
DTSTART:20270328T010000
END:DAYLIGHT
BEGIN:STANDARD
TZOFFSETFROM:+0200
TZOFFSETTO:+0100
TZNAME:CET
DTSTART:20271031T010000
END:STANDARD
END:VTIMEZONE
BEGIN:VEVENT
DTSTART;TZID=Europe/Berlin:20260530T190000
DTEND;TZID=Europe/Berlin:20260530T230000
DTSTAMP:20260421T181143
CREATED:20260208T141706Z
LAST-MODIFIED:20260208T141706Z
UID:10002345-1780167600-1780182000@die-trompete.de
SUMMARY:Retrogott & HulkHodn - live
DESCRIPTION:Retrogott & HulkHodn liveGegen Mitternacht TourEinlass: 19.00 Uhr / Beginn 20.00 UhrSupport: tba\nTickets\n\nRetrogott & HulkHodn bringen am 20.2.2026 ein neues Album raus.Es ist ein gutes Album und wird auf Tour präsentiert.Sei nicht dumm\, komm rum
URL:https://die-trompete.de/event/retrogott-hulkhodn-live/
LOCATION:Die Trompete &#8211; Bochum\, Viktoriastr. 45\, Bochum\, NRW\, 44787\, Deutschland
ATTACH;FMTTYPE=image/jpeg:https://die-trompete.de/wp-content/uploads/2026/02/629591802_1428099035778192_1660702398304669422_n.jpg
ORGANIZER;CN="Mad Flava":MAILTO:info@mad-flava.com
END:VEVENT
END:VCALENDAR